BEGIN:VCALENDAR
VERSION:2.0
PRODID:-//ChamberMaster//Event Calendar 2.0//EN
METHOD:PUBLISH
X-PUBLISHED-TTL:P3D
REFRESH-INTERVAL:P3D
CALSCALE:GREGORIAN
BEGIN:VEVENT
DTSTART:20241030T120000Z
DTEND:20241030T130000Z
X-MICROSOFT-CDO-ALLDAYEVENT:FALSE
SUMMARY:KKA Chamber: Updating your Employee Handbook
DESCRIPTION:We are excited to partner with HR Consultant Dawn Pahel a for an Employee Handbook workshop on Wednesday\, 10/30 from 8-9 AM.\n\n\n\nIs your employee handbook up to the new Maine State legal standards? We will walk you through the changes. There will be time for questions and advice. \n\n\n\nDawn Pahel- Driven\, proactive\, and committed HR & Payroll professional with 20+ years of combined working experience. Consistently sets the standard and surpasses organizational goals. Provides outstanding customer service through keen attention to detail and the innate ability to conduct financial operations with maximum accuracy and efficiency. A forward/strategic planner specialized in employee relations and retention\, on-boarding\, employee benefits administration\, ADP Workforce Now payroll processing\, and multiple HRIS systems.\n\n\n\nJoin us in person at our office located at 16 Water Street in Kennebunk.
X-ALT-DESC;FMTTYPE=text/html:<p><br />\n<span style="font-size:18px\;"><span style="font-size:20px\;"><strong>We are excited to partner with HR Consultant&nbsp\;Dawn Pahel a for an Employee Handbook&nbsp\;workshop on Wednesday\, 10/30 from 8-9 AM.</strong></span><br />\n<br />\nIs your employee handbook up to the new Maine State legal standards? We will walk you through the changes. There will be time for questions and advice.&nbsp\;<br />\n<br />\nDawn Pahel-&nbsp\;</span><span style="color: rgba(0\, 0\, 0\, 0.9)\; font-family: -apple-system\, system-ui\, BlinkMacSystemFont\, &quot\;Segoe UI&quot\;\, Roboto\, &quot\;Helvetica Neue&quot\;\, &quot\;Fira Sans&quot\;\, Ubuntu\, Oxygen\, &quot\;Oxygen Sans&quot\;\, Cantarell\, &quot\;Droid Sans&quot\;\, &quot\;Apple Color Emoji&quot\;\, &quot\;Segoe UI Emoji&quot\;\, &quot\;Segoe UI Emoji&quot\;\, &quot\;Segoe UI Symbol&quot\;\, &quot\;Lucida Grande&quot\;\, Helvetica\, Arial\, sans-serif\; font-size: 16px\;">Driven\, proactive\, and committed HR &amp\; Payroll professional with 20+ years of combined working experience. Consistently sets the standard and surpasses organizational goals. Provides outstanding customer service through keen attention to detail and the innate ability to conduct financial operations with maximum accuracy and efficiency. A forward/strategic planner specialized in employee relations and retention\, on-boarding\, employee benefits administration\, ADP Workforce Now payroll processing\, and multiple HRIS systems.</span><br />\n<br />\n<span style="font-size: 18px\;"><strong>Join us in person at our office located at 16 Water Street in Kennebunk.</strong></span></p>\n
LOCATION:IN PERSON:16 Water St.\, Kennebunk
UID:e.1923.30511
SEQUENCE:3
DTSTAMP:20260425T114134Z
URL:https://chamber.gokennebunks.com/events/details/kka-chamber-updating-your-employee-handbook-30511
END:VEVENT

END:VCALENDAR
