BEGIN:VCALENDAR
VERSION:2.0
PRODID:-//ChamberMaster//Event Calendar 2.0//EN
METHOD:PUBLISH
X-PUBLISHED-TTL:P3D
REFRESH-INTERVAL:P3D
CALSCALE:GREGORIAN
BEGIN:VEVENT
DTSTART:20240214T130000Z
DTEND:20240214T140000Z
X-MICROSOFT-CDO-ALLDAYEVENT:FALSE
SUMMARY:KKA Chamber: TikTok 101
DESCRIPTION:We are excited to be offering a comprehensive four part\n\nSocial Media Workshop series for 2024.\n\n\n\nTikTok 101 Workshop\n\n\n\nLearn about how you can use TikTok in your business\n\n\n\nThis workshop will feature guest speaker Sophie Smith\n\n\n\nSophie Smith @SophSoph207 // Self-taught while stuck home in 2020\, 23-year-old Sophie Smith of Kennebunk has grown her business to 140.6K followers on TikTok. She promotes primarily home\, lifestyle and beauty products on her channel.
X-ALT-DESC;FMTTYPE=text/html:<span style="font-size:16px\;">We are excited to be offering a&nbsp\;comprehensive four part<br />\nSocial Media Workshop series for 2024.</span><br />\n<br />\n<span style="font-size: 24px\;"><b>TikTok 101 Workshop</b></span><br />\n<br />\n<span class="OYPEnA text-decoration-none text-strikethrough-none">Learn about how you can use TikTok in your business</span><br />\n<br />\nThis workshop will feature guest speaker Sophie Smith<br />\n<br />\n<span style="color: rgb(34\, 34\, 34)\; font-family: Arial\, Helvetica\, sans-serif\; font-size: small\;">Sophie Smith @SophSoph207 // Self-taught while stuck home in 2020\, 23-year-old Sophie Smith of Kennebunk has grown her business to 140.6K followers on TikTok. She promotes primarily home\, lifestyle and beauty products on her channel.</span><br />\n<br />\n&nbsp\;
LOCATION:Kennebunk-Kennebunkport-Arundel Chamber of Commerce 16 Water Street\, Kennebunk
UID:e.1923.24184
SEQUENCE:3
DTSTAMP:20260421T204720Z
URL:https://chamber.gokennebunks.com/events/details/kka-chamber-tiktok-101-24184
END:VEVENT

END:VCALENDAR
