BEGIN:VCALENDAR
VERSION:2.0
PRODID:-//ChamberMaster//Event Calendar 2.0//EN
METHOD:PUBLISH
X-PUBLISHED-TTL:P3D
REFRESH-INTERVAL:P3D
CALSCALE:GREGORIAN
BEGIN:VEVENT
DTSTART:20250708T200000Z
DTEND:20250708T203000Z
X-MICROSOFT-CDO-ALLDAYEVENT:FALSE
SUMMARY:KKA Chamber: Ribbon Cutting Treehouse Legal
DESCRIPTION:Join us on Tuesday\, July 8th at 4 PM to help Treehouse Legal celebrate their new location and expansion with a ribbon cutting ceremony! There will be an open house following the ceremony.\n\nTreehouse Legal offers Estate Planning and Business Planning services.\n\nMore information: www.treehouselegalmaine.com
X-ALT-DESC;FMTTYPE=text/html:<span style="font-size:18px\;">Join us on Tuesday\, July 8th at 4 PM&nbsp\;<span style="color: rgb(34\, 34\, 34)\; font-family: Arial\, Helvetica\, sans-serif\;">to help Treehouse Legal celebrate their new location and expansion with a ribbon cutting ceremony! There will be an open house following the ceremony.<br />\nTreehouse Legal&nbsp\;</span><span style="color: rgb(34\, 34\, 34)\; font-family: arial\, sans-serif\;">offers Estate Planning and Business Planning services.<br />\nMore information: www.treehouselegalmaine.com</span></span>
LOCATION:Treehouse Legal 149 Port Road\, Kennebunk (on the bottom floor of the building with Portside Realty\, where Destination Fitness used to be)
UID:e.1923.35930
SEQUENCE:3
DTSTAMP:20260421T073958Z
URL:https://chamber.gokennebunks.com/events/details/kka-chamber-ribbon-cutting-treehouse-legal-35930
END:VEVENT

END:VCALENDAR
