BEGIN:VCALENDAR
VERSION:2.0
PRODID:-//ChamberMaster//Event Calendar 2.0//EN
METHOD:PUBLISH
X-PUBLISHED-TTL:P3D
REFRESH-INTERVAL:P3D
CALSCALE:GREGORIAN
BEGIN:VEVENT
DTSTART:20250625T200000Z
DTEND:20250625T220000Z
X-MICROSOFT-CDO-ALLDAYEVENT:FALSE
SUMMARY:KKA Chamber: Ribbon Cutting & Open House for Maine Cottage Apothecary
DESCRIPTION:MAINE COTTAGE APOTHECARY is thrilled to reopen at their new location and celebrate with the people who have stood by them every step of the way!\n\n\n\nPlease join us on Wednesday\, June 25 at 4pm for a special ribbon cutting ceremony and open house to celebrate this unique\, Maine-made destination dedicated to local plant-based beauty\, artisan goods and small-batch craftsmanship.\n\n\n\nAt Maine Cottage Apothecary\, every product is freshly prepared onsite\, packaged with care\, and crafted using local\, organic\, and botanical ingredients. Guests will enjoy a botanical-bliss-filled shopping experience\, explore a curated selection of handmade bath\, body\, and skincare products\, and browse luxurious bath & body accessories\, cozy pajamas\, stationery\, and handcrafted jewelry.\n\n\n\nMaine Cottage Apothecary invites the community\, local businesses\, and friends to celebrate\, shop\, and experience firsthand what makes Maine Cottage Apothecary a true hidden gem in Kennebunk.
X-ALT-DESC;FMTTYPE=text/html:<span style="font-size:18px\;">MAINE COTTAGE APOTHECARY is thrilled to reopen at their new location and celebrate with the people who have stood by them every step of the way!<br />\n<br />\nPlease join us on <strong>Wednesday\, June 25 at 4pm</strong> for a special ribbon cutting ceremony and open house to celebrate this unique\, Maine-made destination dedicated to local plant-based beauty\, artisan goods and small-batch craftsmanship.<br />\n<br />\nAt Maine Cottage Apothecary\, every product is freshly prepared onsite\, packaged with care\, and crafted using local\, organic\, and botanical ingredients. Guests will enjoy a botanical-bliss-filled shopping experience\, explore a curated selection of handmade bath\, body\, and skincare products\, and browse luxurious bath &amp\; body accessories\, cozy pajamas\, stationery\, and handcrafted jewelry.<br />\n<br />\nMaine Cottage Apothecary invites the community\, local businesses\, and friends to celebrate\, shop\, and experience firsthand what makes Maine Cottage Apothecary a true hidden gem in Kennebunk.</span>
LOCATION:Maine Cottage Apothecary
UID:e.1923.35929
SEQUENCE:3
DTSTAMP:20260421T063214Z
URL:https://chamber.gokennebunks.com/events/details/kka-chamber-ribbon-cutting-open-house-for-maine-cottage-apothecary-35929
END:VEVENT

END:VCALENDAR
