BEGIN:VCALENDAR
VERSION:2.0
PRODID:-//ChamberMaster//Event Calendar 2.0//EN
METHOD:PUBLISH
X-PUBLISHED-TTL:P3D
REFRESH-INTERVAL:P3D
CALSCALE:GREGORIAN
BEGIN:VEVENT
DTSTART:20250723T183000Z
DTEND:20250723T190000Z
X-MICROSOFT-CDO-ALLDAYEVENT:FALSE
SUMMARY:KKA Chamber: Ribbon Cutting Mainely Experiences
DESCRIPTION:Please join us on Wednesday\, July 23 at 2:30 PM to help Mainely Experiences celebrate their grand opening with a ribbon cutting ceremony!\n\nPremier Concierge Service for Customized Tours\, Event Planning and Unforgettable Experiences!
X-ALT-DESC;FMTTYPE=text/html:<br />\n<span style="color:#000000\;"><span style="font-size:20px\;">Please join us on&nbsp\;<strong>Wednesday\, July 23 at 2:30 PM&nbsp\;</strong>to&nbsp\;help Mainely Experiences celebrate their grand opening with a ribbon cutting ceremony!</span></span><br />\n<span style="font-size:20px\;"><span class="x193iq5w xeuugli x13faqbe x1vvkbs x1xmvt09 x1lliihq x1s928wv xhkezso x1gmr53x x1cpjm7i x1fgarty x1943h6x xudqn12 x3x7a5m x6prxxf xvq8zen xo1l8bm xzsf02u" dir="auto">Premier Concierge Service for Customized Tours\, Event Planning and Unforgettable Experiences!</span></span><br />\n&nbsp\;
LOCATION:52 Oceanview Ave\, Kennebunkport Located at Village Green in Kennebunkport at Ganny's Garden
UID:e.1923.37671
SEQUENCE:3
DTSTAMP:20260421T073756Z
URL:https://chamber.gokennebunks.com/events/details/kka-chamber-ribbon-cutting-mainely-experiences-37671
END:VEVENT

END:VCALENDAR
