BEGIN:VCALENDAR
VERSION:2.0
PRODID:-//ChamberMaster//Event Calendar 2.0//EN
METHOD:PUBLISH
X-PUBLISHED-TTL:P3D
REFRESH-INTERVAL:P3D
CALSCALE:GREGORIAN
BEGIN:VEVENT
DTSTART:20240815T200000Z
DTEND:20240816T010000Z
X-MICROSOFT-CDO-ALLDAYEVENT:FALSE
SUMMARY:KKA Chamber: Ribbon Cutting & Grand Opening Celebration for Aspire Home
DESCRIPTION:Please join us on Thursday\, August 15 at 4 PM to help Aspire Home celebrate their grand opening with a ribbon cutting ceremony and celebration! \n\n\n\nThe address is 45 Portland Road\, Suite 5\, Kennebunk. \n\n\n\nFollowing the ribbon cutting ceremony at 4pm\, Aspire Home will be hosting a grand opening celebration until 9pm which will include food\, drinks\, live music from the Ocean Ave Band (5-8pm) and raffles! \n\n\n\nHere are the items that will be raffled off: \n\n	Faber Hood Cristal 24 SS 300\n	Faber Hood LEVE30SS200\n	Napoleon Rogue XT 525 SIB with Infrared Side Burner\, Propane\, Stainless Steel (Scratch & Dent model)\n	Electrolux WellQ7 Pet Vacuum\n	MIELE Triflex HX1 Facelift Cordless Stick Vacuum Cleaner\n	XO Tabletop 24" x 16" Wood Fired Pizza Oven Carbona (Black)\n	Safavieh Margot Tea Light Climbing Leaves Set of 3 Wall Decor\n	Safavieh Jean Accent Table\n	Safavieh Jakob Wall Decor\n	Safavieh Mary Pedestal Side Table\n	Safavieh Rodeo Drive Collection Rug\n	Seaside Casual Coastline Harbor View Adirondack (301)\n	Adult Bean Bag Chair\, Queen\, NEST Cloud\n	Legacy Classic Edgewater Soft Sand Trestle Table\n\nAspire Home is Southern Maine's premier furniture\, mattress and home theater store. They have an indoor and outdoor furniture showroom! To learn more\, click here. \n\n\n\nWe hope to see you there!
X-ALT-DESC;FMTTYPE=text/html:<br />\n<span style="font-size:18px\;"><span style="font-family:arial\;"><span style="color:#000000\;">Please join us on&nbsp\;<strong>Thursday\, August 15 at 4 PM&nbsp\;</strong>to&nbsp\;help Aspire Home celebrate their grand opening with a ribbon cutting ceremony and celebration!&nbsp\;<br />\n<br />\nThe address is 45 Portland Road\, Suite 5\, Kennebunk.&nbsp\;<br />\n<br />\nFollowing the ribbon cutting ceremony at 4pm\, Aspire Home will be hosting a grand opening celebration until 9pm which will include food\, drinks\, live music from the Ocean Ave Band (5-8pm) and raffles!&nbsp\;<br />\n<br />\n<u>Here are the items that will be raffled off:</u>&nbsp\;</span></span></span>\n<ul>\n	<li><span style="font-size:14px\;">Faber Hood Cristal 24 SS 300</span></li>\n	<li><span style="font-size:14px\;">Faber Hood LEVE30SS200</span></li>\n	<li><span style="font-size:14px\;">Napoleon Rogue XT 525 SIB with Infrared Side Burner\, Propane\, Stainless Steel (Scratch &amp\; Dent model)</span></li>\n	<li><span style="font-size:14px\;">Electrolux WellQ7 Pet Vacuum</span></li>\n	<li><span style="font-size:14px\;">MIELE Triflex HX1 Facelift&nbsp\;Cordless Stick Vacuum Cleaner</span></li>\n	<li><span style="font-size:14px\;">XO Tabletop 24&quot\; x 16&quot\; Wood Fired Pizza Oven Carbona (Black)</span></li>\n	<li><span style="font-size:14px\;">Safavieh Margot Tea Light Climbing Leaves Set of 3 Wall Decor</span></li>\n	<li><span style="font-size:14px\;">Safavieh Jean Accent Table</span></li>\n	<li><span style="font-size:14px\;">Safavieh Jakob Wall Decor</span></li>\n	<li><span style="font-size:14px\;">Safavieh Mary Pedestal Side Table</span></li>\n	<li><span style="font-size:14px\;">Safavieh Rodeo Drive Collection Rug</span></li>\n	<li><span style="font-size:14px\;">Seaside Casual Coastline Harbor View Adirondack (301)</span></li>\n	<li><span style="font-size:14px\;">Adult Bean Bag Chair\, Queen\, NEST Cloud</span></li>\n	<li><span style="font-size:14px\;">Legacy Classic Edgewater Soft Sand Trestle Table</span></li>\n</ul>\n<span style="font-size:18px\;"><span style="font-family:arial\;"><span style="color:#000000\;">Aspire Home is Southern Maine&#39\;s premier furniture\, mattress and home theater store. They have an indoor and outdoor furniture showroom! To learn more\, click <a href="https://www.aspirehomekennebunk.com/">here</a>.&nbsp\;<br />\n<br />\nWe hope to see you there!</span></span></span>
LOCATION:Aspire Home 45 Portland Road\, Suite 5\, Kennebunk
UID:e.1923.29795
SEQUENCE:3
DTSTAMP:20260421T111806Z
URL:https://chamber.gokennebunks.com/events/details/kka-chamber-ribbon-cutting-grand-opening-celebration-for-aspire-home-29795
END:VEVENT

END:VCALENDAR
