BEGIN:VCALENDAR
VERSION:2.0
PRODID:-//ChamberMaster//Event Calendar 2.0//EN
METHOD:PUBLISH
X-PUBLISHED-TTL:P3D
REFRESH-INTERVAL:P3D
CALSCALE:GREGORIAN
BEGIN:VEVENT
DTSTART:20240926T200000Z
DTEND:20240926T220000Z
X-MICROSOFT-CDO-ALLDAYEVENT:FALSE
SUMMARY:KKA Chamber: Ribbon Cutting & Grand Opening Celebration for 207 LASER
DESCRIPTION:Please join us on Thursday\, September 26 at 4 PM to help 207 LASER celebrate their grand opening with a ribbon cutting ceremony and celebration! \n\n\n\nThe address is 45 Portland Road\, Unit 9A\, Kennebunk. \n\n\n\nCome celebrate 207 LASER's ribbon cutting and open house from 4-6 PM\, featuring complimentary full-face skin imaging\, live demonstrations of signature treatments like brow lamination and IV hydration\, and exciting raffles for Botox\, lip fillers\, free laser hair removal\, laser skin rejuvenation and more.\n\n\n\nAll appointments booked that day will receive an exclusive 20% discount. Meet their expert team\, explore our beautiful and welcoming new space\, and enjoy sparkling bubbly and delightful hors d'oeuvres. \n\n\n\n207LASER\, trusted for over a decade\, is the leader in aesthetic injections and advanced laser treatments. Their highly experienced team delivers personalized\, results-driven care\, specializing in injectables and cutting-edge laser treatments. They are excited to bring their expertise to their new Kennebunk location\, continuing their commitment to enhancing natural beauty with professionalism and precision. To learn more\, click here.\n\n\n\nWe hope to see you there!
X-ALT-DESC;FMTTYPE=text/html:<br />\n<span style="color:#000000\;"><span style="font-size:20px\;">Please join us on&nbsp\;<strong>Thursday\, September 26 at 4 PM&nbsp\;</strong>to&nbsp\;help 207 LASER celebrate their grand opening with a ribbon cutting ceremony and celebration!&nbsp\;</span></span><br />\n<br />\n<span style="font-size:18px\;"><span style="color:#000000\;">The address is 45 Portland Road\, Unit 9A\, Kennebunk.&nbsp\;<br />\n<br />\n<span style="font-family: tahoma\, sans-serif\;">Come celebrate 207 LASER&#39\;s ribbon cutting and open house from 4-6 PM\, featuring complimentary full-face skin imaging\, live demonstrations of signature treatments like brow lamination and IV hydration\, and exciting raffles for Botox\, lip fillers\, free laser hair removal\, laser skin rejuvenation and more.<br />\n<br />\nAll appointments booked that day will receive an exclusive 20% discount. Meet their expert team\, explore our beautiful and welcoming new space\, and enjoy sparkling bubbly and delightful hors d&#39\;oeuvres.&nbsp\;</span><br />\n<br />\n<span style="font-family: tahoma\, sans-serif\;">207LASER\, trusted for over a decade\, is the leader in aesthetic injections and advanced laser treatments. Their highly experienced team delivers personalized\, results-driven care\, specializing in injectables and cutting-edge laser treatments. They are excited to bring their expertise to their new Kennebunk location\, continuing their commitment to enhancing natural beauty with professionalism and precision. To learn more\, click</span></span><span style="color: rgb(34\, 34\, 34)\; font-family: tahoma\, sans-serif\;"> <a href="https://207laser.com/">here</a></span><span style="color:#000000\;"><span style="font-family: tahoma\, sans-serif\;">.</span><br />\n<br />\nWe hope to see you there!</span></span>
LOCATION:207 LASER 45 Portland Road\, Unit 9A\, Kennebunk
UID:e.1923.30536
SEQUENCE:3
DTSTAMP:20260421T100221Z
URL:https://chamber.gokennebunks.com/events/details/kka-chamber-ribbon-cutting-grand-opening-celebration-for-207-laser-30536
END:VEVENT

END:VCALENDAR
