BEGIN:VCALENDAR
VERSION:2.0
PRODID:-//ChamberMaster//Event Calendar 2.0//EN
METHOD:PUBLISH
X-PUBLISHED-TTL:P3D
REFRESH-INTERVAL:P3D
CALSCALE:GREGORIAN
BEGIN:VEVENT
DTSTART:20250718T190000Z
DTEND:20250718T193000Z
X-MICROSOFT-CDO-ALLDAYEVENT:FALSE
SUMMARY:KKA Chamber: Ribbon Cutting for Wine House on Main
DESCRIPTION:WINE HOUSE ON MAIN is thrilled to reopen with a beautiful new design!\n\n\n\nPlease join us on Friday\, July 18 at 3pm for a special ribbon cutting ceremony.
X-ALT-DESC;FMTTYPE=text/html:<span style="font-size:18px\;">WINE HOUSE ON MAIN is thrilled to reopen with a beautiful new design!<br />\n<br />\nPlease join us on <strong>Friday\, July 18 at 3pm</strong> for a special ribbon cutting ceremony.</span><br />\n<br />\n&nbsp\;
LOCATION:Wine House on Main
UID:e.1923.37670
SEQUENCE:3
DTSTAMP:20260421T073832Z
URL:https://chamber.gokennebunks.com/events/details/kka-chamber-ribbon-cutting-for-wine-house-on-main-37670
END:VEVENT

END:VCALENDAR
