BEGIN:VCALENDAR
VERSION:2.0
PRODID:-//ChamberMaster//Event Calendar 2.0//EN
METHOD:PUBLISH
X-PUBLISHED-TTL:P3D
REFRESH-INTERVAL:P3D
CALSCALE:GREGORIAN
BEGIN:VEVENT
DTSTART:20260501T140000Z
DTEND:20260501T143000Z
X-MICROSOFT-CDO-ALLDAYEVENT:FALSE
SUMMARY:KKA Chamber: Ribbon Cutting Ceremony for Hope Cemetery
DESCRIPTION:Please join us on Friday\, May 1 at 10:00 AM to help Hope Cemetery for a ribbon cutting ceremony! \n\n\n\nThe address is 2 Barnard Lane\, Kennebunk. You can park along Barnard Lane.\n\n \nCelebrate the opening of their newest burial area called "The Meadow". The Board is also excited to announce the Cemetery is now an accredited Level I Arboretum. They are honored to provide the community with a beautiful\, peaceful and serene setting for recreation\, reflection and remembrance.
X-ALT-DESC;FMTTYPE=text/html:<br />\n<span style="color:#000000\;"><span style="font-size:20px\;">Please join us on&nbsp\;<strong>Friday\, May 1 at 10:00 AM&nbsp\;</strong>to&nbsp\;help Hope Cemetery for a ribbon cutting ceremony!&nbsp\;</span></span><br />\n<br />\n<span style="font-size:18px\;"><span style="color:#000000\;">The address is 2 Barnard Lane\, Kennebunk. You can park along Barnard Lane.</span></span><br />\n&nbsp\;\n<div style="color: rgb(34\, 34\, 34)\; font-family: Arial\, Helvetica\, sans-serif\; font-size: small\; background-color: rgb(255\, 255\, 255)\;"><span style="color: rgb(60\, 64\, 67)\; font-family: Roboto\, sans-serif\; font-size: 14px\; letter-spacing: 0.2px\;">Celebrate the opening of their newest burial area called &quot\;The Meadow&quot\;. The Board is also excited to announce the Cemetery is now an accredited Level I Arboretum. They are honored to provide the community with a beautiful\, peaceful and serene setting for recreation\, reflection and remembrance.</span></div>\n
LOCATION:Hope Cemetery 2 Barnard Lane\, Kennebunk
UID:e.1923.39179
SEQUENCE:3
DTSTAMP:20260425T135030Z
URL:https://chamber.gokennebunks.com/events/details/kka-chamber-ribbon-cutting-ceremony-for-hope-cemetery-39179
END:VEVENT

END:VCALENDAR
