BEGIN:VCALENDAR
VERSION:2.0
PRODID:-//ChamberMaster//Event Calendar 2.0//EN
METHOD:PUBLISH
X-PUBLISHED-TTL:P3D
REFRESH-INTERVAL:P3D
CALSCALE:GREGORIAN
BEGIN:VEVENT
DTSTART:20231012T200000Z
DTEND:20231012T210000Z
X-MICROSOFT-CDO-ALLDAYEVENT:FALSE
SUMMARY:KKA Chamber: Ribbon Cutting Celebration for Woof Works Training!
DESCRIPTION:Please join us at our office (16 Water St.\, Kennebunk) on Thursday\, October 12 from 4-5pm to celebrate Woof Works Training! \n\n\n\nThere will be a ribbon cutting ceremony\, dog training demos\, raffle prizes for FREE dog training\, cake cutting and even adoptable puppies from local rescues! Gemini Cakes will also have their food truck present. This event is rain or shine and FREE to the public. Come meet the Woof Works Team! Visit their website for more information about their training.
X-ALT-DESC;FMTTYPE=text/html:<span style="color:rgb(5\, 5\, 5)\; font-family:system-ui\,-apple-system\,system-ui\,.sfnstext-regular\,sans-serif\; font-size:15px"><strong>Please join us at our office (16 Water St.\, Kennebunk) on Thursday\, October 12 from 4-5pm to celebrate Woof Works Training!&nbsp\;</strong><br />\n<br />\nThere will be a ribbon cutting ceremony\, dog training demos\, raffle prizes for FREE dog training\, cake cutting and even adoptable puppies from local rescues! Gemini Cakes will also have their food truck present. This event is rain or shine and FREE to the public. Come meet the Woof Works Team! Visit <a href="https://www.woofworkstraining.com">their website</a> for more information about their training.</span>
LOCATION:16 Water Street\, Kennebunk
UID:e.1923.23035
SEQUENCE:3
DTSTAMP:20260422T021504Z
URL:https://chamber.gokennebunks.com/events/details/kka-chamber-ribbon-cutting-celebration-for-woof-works-training-23035
END:VEVENT

END:VCALENDAR
