BEGIN:VCALENDAR
VERSION:2.0
PRODID:-//ChamberMaster//Event Calendar 2.0//EN
METHOD:PUBLISH
X-PUBLISHED-TTL:P3D
REFRESH-INTERVAL:P3D
CALSCALE:GREGORIAN
BEGIN:VEVENT
DTSTART:20250501T150000Z
DTEND:20250501T153000Z
X-MICROSOFT-CDO-ALLDAYEVENT:FALSE
SUMMARY:KKA Chamber: Ribbon Cutting Celebration for Turning Heads Salon
DESCRIPTION:Please join us on Thursday\, May 1st at 11 am to help Turning Heads Salon celebrate with a ribbon cutting ceremony! \n\n\n\nThe address is 73 York Street\, Kennebunk. \n\n\n\nTo learn more visit: turningheadshairstudio.net
X-ALT-DESC;FMTTYPE=text/html:<span style="font-size:18px\;"><span style="font-family:arial\;"><span style="color:#000000\;">Please join us on <strong>Thursday\, May 1st at 11 am&nbsp\;</strong>to&nbsp\;help Turning Heads Salon celebrate with a ribbon cutting ceremony!&nbsp\;<br />\n<br />\nThe address is 73 York Street\, Kennebunk.&nbsp\;<br />\n<br />\nTo learn more visit:&nbsp\;</span></span><a href="https://www.turningheadshairstudio.net/">turningheadshairstudio.net</a></span><br />\n&nbsp\;
LOCATION:Turning Heads Salon 73 York Street\, Kennebunk
UID:e.1923.33323
SEQUENCE:3
DTSTAMP:20260421T050216Z
URL:https://chamber.gokennebunks.com/events/details/kka-chamber-ribbon-cutting-celebration-for-turning-heads-salon-33323
END:VEVENT

END:VCALENDAR
