BEGIN:VCALENDAR
VERSION:2.0
PRODID:-//ChamberMaster//Event Calendar 2.0//EN
METHOD:PUBLISH
X-PUBLISHED-TTL:P3D
REFRESH-INTERVAL:P3D
CALSCALE:GREGORIAN
BEGIN:VEVENT
DTSTART:20240606T223000Z
DTEND:20240606T230000Z
X-MICROSOFT-CDO-ALLDAYEVENT:FALSE
SUMMARY:KKA Chamber: Ribbon Cutting Celebration for The Treat Truck!
DESCRIPTION:Please join us on Thursday\, June 6 at 6:30 PM to help The Treat Truck celebrate their grand opening with a ribbon cutting ceremony!\n\n\n\nThe address is 61 Main Street\, Kennebunk. \n\n\n\nThere will be prizes for 20 of the first 100 dishes they serve that evening - check the bottom of your dish for a special sticker and win a gift card! \n\n\n\nThe Treat Truck is a whimsical and fun ice cream truck serving decadent sundaes\, hard serve scoops and homemade popsicles. To learn more\, click here.
X-ALT-DESC;FMTTYPE=text/html:<br />\n<span style="color:#000000\;"><span style="font-size: 20px\;"><span style="font-family: arial\;">Please join us on&nbsp\;<strong>Thursday\, June 6 at 6:30 PM&nbsp\;</strong>to&nbsp\;help The Treat Truck celebrate their grand opening with a ribbon cutting ceremony!<br />\n<br />\nThe address is 61 Main Street\, Kennebunk.&nbsp\;</span></span><br />\n<br />\n<span style="font-size:20px\;"><span style="font-family: Arial\, Helvetica\, sans-serif\; background-color: rgb(255\, 255\, 255)\;">There will be prizes for 20 of the first 100 dishes they serve that evening - check the bottom of your dish for a special sticker and win a gift card!&nbsp\;</span></span></span><br />\n<br />\n<font color="#000000" face="arial"><span style="font-size: 20px\;">The Treat Truck is a whimsical and fun ice cream truck serving decadent sundaes\, hard serve scoops and homemade popsicles. To learn more\, click <a href="https://www.treattruck.me/">here</a>.</span></font>
LOCATION:The Treat Truck 61 Main Street\, Kennebunk
UID:e.1923.25311
SEQUENCE:3
DTSTAMP:20260421T140447Z
URL:https://chamber.gokennebunks.com/events/details/kka-chamber-ribbon-cutting-celebration-for-the-treat-truck-25311
END:VEVENT

END:VCALENDAR
