BEGIN:VCALENDAR
VERSION:2.0
PRODID:-//ChamberMaster//Event Calendar 2.0//EN
METHOD:PUBLISH
X-PUBLISHED-TTL:P3D
REFRESH-INTERVAL:P3D
CALSCALE:GREGORIAN
BEGIN:VEVENT
DTSTART:20240502T190000Z
DTEND:20240502T203000Z
X-MICROSOFT-CDO-ALLDAYEVENT:FALSE
SUMMARY:KKA Chamber: Ribbon Cutting Celebration for Southern Maine Hospital for Small Mammals!
DESCRIPTION:Please join us on Thursday\, May 2 at 3pm to help Southern Maine Hospital for Small Mammals celebrate their grand opening with a ribbon cutting ceremony! There will be an open house following the ribbon cutting ceremony.\n\n\n\nThe address is 45 Portland Road #10\, Kennebunk. \n\n\n\nDuring the open house\, Dr. Ford and his team will be available to give interested visitors a guided tour through the parts of the hospital that aren't normally seen by clients. \n\n\n\nSouthern Maine Hospital for Small Mammals is Maine's first hospital exclusively dedicated to the care of exotic companion mammals. To learn more\, click here.
X-ALT-DESC;FMTTYPE=text/html:<br />\n<span style="color:#000000\;"><span style="font-size: 20px\;"><span style="font-family: arial\;">Please join us on&nbsp\;<strong>Thursday\, May 2 at 3pm&nbsp\;</strong>to&nbsp\;help Southern Maine Hospital for Small Mammals celebrate their grand opening with a ribbon cutting ceremony! There will be an open house following the ribbon cutting ceremony.<br />\n<br />\nThe address is 45 Portland Road #10\, Kennebunk.&nbsp\;</span></span><br />\n<br />\n<span style="font-size:20px\;"><span style="font-family: Arial\, Helvetica\, sans-serif\; background-color: rgb(255\, 255\, 255)\;">During the open house\, Dr. Ford and his team will be available to give interested visitors a guided tour through the parts of the hospital that aren&rsquo\;t normally seen by clients.&nbsp\;</span></span></span><br />\n<br />\n<span style="font-size: 20px\;"><span style="font-family: arial\;"><span style="color:#000000\;">Southern Maine Hospital for Small Mammals is Maine&#39\;s first hospital exclusively dedicated to the care of exotic companion mammals. To learn more\, click&nbsp\;</span><a href="https://www.mainesmallmammals.com/"><span style="color: rgb(0\, 0\, 255)\;">here</span></a><span style="color: rgb(0\, 0\, 0)\;">.</span></span></span>
LOCATION:Southern Maine Hospital for Small Mammals 45 Portland Road #10\, Kennebunk
UID:e.1923.24611
SEQUENCE:3
DTSTAMP:20260421T153337Z
URL:https://chamber.gokennebunks.com/events/details/kka-chamber-ribbon-cutting-celebration-for-southern-maine-hospital-for-small-mammals-24611
END:VEVENT

END:VCALENDAR
