BEGIN:VCALENDAR
VERSION:2.0
PRODID:-//ChamberMaster//Event Calendar 2.0//EN
METHOD:PUBLISH
X-PUBLISHED-TTL:P3D
REFRESH-INTERVAL:P3D
CALSCALE:GREGORIAN
BEGIN:VEVENT
DTSTART:20240620T180000Z
DTEND:20240620T183000Z
X-MICROSOFT-CDO-ALLDAYEVENT:FALSE
SUMMARY:KKA Chamber: Ribbon Cutting Celebration for Salt & Sand Fine Art Gallery!
DESCRIPTION:Please join us on Thursday\, June 20 at 2pm to help Salt & Sand Fine Art Gallery celebrate the grand opening with a ribbon cutting ceremony! \n\n\n\nThe address is 2 Morning Walk Lane\, Unit #8A\, Kennebunk. \n\n\n\nThey invite you to come for the ribbon cutting and stay for their salute to Summer: Solstice & Sangria event after!\n\n\n\nSalt & Sand Fine Art is a locally owned and operated Fine Art Gallery here to serve the art community\, its art enthusiasts\, art collectors and the like. They offer a vibrant space for all to enjoy whether you are here to take in the beauty and creativity our founding artists have to share\, or you're an avid collector searching for that perfect piece. \n\n\n\nWith rotating exhibitions and interactive workshops\, they invite you immerse yourself in the beauty of self-expression and join them on a journey of artistic discovery. \n\n\n\nThey are excited to be joining this wonderful community and will strive to provide the best experience for all who visit. You can view their website here.
X-ALT-DESC;FMTTYPE=text/html:<br />\n<span style="font-size:18px\;"><span style="font-family:arial\;"><span style="color:#000000\;">Please join us on&nbsp\;<strong>Thursday\, June 20 at 2pm&nbsp\;</strong>to&nbsp\;help Salt &amp\; Sand Fine Art Gallery celebrate the grand opening with a ribbon cutting ceremony!&nbsp\;<br />\n<br />\nThe address is 2 Morning Walk Lane\, Unit #8A\, Kennebunk.&nbsp\;<br />\n<br />\nThey invite you to come for the ribbon cutting and stay for their salute to Summer: Solstice &amp\; Sangria event after!<br />\n<br />\nSalt &amp\; Sand Fine Art is a locally owned and operated Fine Art Gallery here to serve the art community\, its art enthusiasts\, art collectors and the like. They offer a vibrant space for all to enjoy whether you are here to take in the beauty and creativity our founding artists have to share\, or you&#39\;re an avid collector searching for that perfect piece.&nbsp\;<br />\n<br />\nWith rotating exhibitions and interactive workshops\, they invite you immerse yourself in the beauty of self-expression and join them on a journey of artistic discovery.&nbsp\;<br />\n<br />\nThey are excited to be joining this wonderful community and will strive to provide the best experience for all who visit. You can view their website <a href="https://www.saltandsandfineart.com/">here</a>.</span></span></span>
LOCATION:Salt & Sand Fine Art Gallery 2 Morning Walk Lane\, Unit 8A\, Kennebunk
UID:e.1923.25332
SEQUENCE:3
DTSTAMP:20260421T140433Z
URL:https://chamber.gokennebunks.com/events/details/kka-chamber-ribbon-cutting-celebration-for-salt-sand-fine-art-gallery-25332
END:VEVENT

END:VCALENDAR
