BEGIN:VCALENDAR
VERSION:2.0
PRODID:-//ChamberMaster//Event Calendar 2.0//EN
METHOD:PUBLISH
X-PUBLISHED-TTL:P3D
REFRESH-INTERVAL:P3D
CALSCALE:GREGORIAN
BEGIN:VEVENT
DTSTART:20231013T190000Z
DTEND:20231013T200000Z
X-MICROSOFT-CDO-ALLDAYEVENT:FALSE
SUMMARY:KKA Chamber: Ribbon Cutting Celebration for Rococo Ice Cream!
DESCRIPTION:Please join us on Friday\, October 13 at 3pm to help Rococo Ice Cream celebrate the grand opening of their new Dessert Bar (and grand-reopening of their Ice Cream Shop at their new location). \n\n\n\nThe address is 8 Western Ave\, Kennebunk. \n\n\n\nIn addition to the ribbon cutting\, there will be dessert tastings\, family activities\, Rococo themed raffle prizes and a celebratory toast!
X-ALT-DESC;FMTTYPE=text/html:<span style="font-size:16px"><strong>Please join us on Friday\, October 13 at 3pm to help Rococo Ice Cream celebrate the grand opening of their new Dessert Bar (and grand-reopening of their Ice Cream Shop at their new location).&nbsp\;</strong><br />\n<br />\nThe address is 8 Western Ave\, Kennebunk.&nbsp\;<br />\n<br />\nIn addition to the ribbon cutting\, there will be dessert tastings\, family activities\, Rococo themed raffle prizes and a celebratory toast!&nbsp\;</span>
LOCATION:Rococo Ice Cream 8 Western Ave\, Kennebunk
UID:e.1923.23036
SEQUENCE:3
DTSTAMP:20260422T021352Z
URL:https://chamber.gokennebunks.com/events/details/kka-chamber-ribbon-cutting-celebration-for-rococo-ice-cream-23036
END:VEVENT

END:VCALENDAR
