BEGIN:VCALENDAR
VERSION:2.0
PRODID:-//ChamberMaster//Event Calendar 2.0//EN
METHOD:PUBLISH
X-PUBLISHED-TTL:P3D
REFRESH-INTERVAL:P3D
CALSCALE:GREGORIAN
BEGIN:VEVENT
DTSTART:20240313T200000Z
DTEND:20240313T220000Z
X-MICROSOFT-CDO-ALLDAYEVENT:FALSE
SUMMARY:KKA Chamber: Ribbon Cutting Celebration for Reform Physical Therapy!
DESCRIPTION:Please join us on Wednesday\, March 13 to help Reform Physical Therapy celebrate their grand re-opening at their NEW location with a ribbon cutting ceremony! There will be an open house to follow with lots of food\, drink\, networking opportunities and good times. \n\n\n\nThe address is 169 Port Road\, Suite 1\, Kennebunk. \n\n\n\nTo RSVP for the event\, please click here.\n\n\n\nTo learn more about Reform Physical Therapy\, click here.
X-ALT-DESC;FMTTYPE=text/html:<div style="margin-left: 15px\;">&nbsp\;</div>\n<span style="font-size:20px\;"><span style="font-family:arial\;"><span style="color:#000000\;">Please join us on <strong>Wednesday\, March 13 </strong>to&nbsp\;help Reform Physical Therapy celebrate their grand re-opening at their NEW location with a ribbon cutting ceremony! There will be an open house to follow with lots of food\, drink\, networking opportunities and good times.&nbsp\;<br />\n<br />\nThe address is 169 Port Road\, Suite 1\, Kennebunk.&nbsp\;</span></span></span><br />\n<br />\n<span style="color: rgb(0\, 0\, 0)\; font-family: arial\; font-size: 20px\;">To RSVP for the event\, please click </span><span style="font-family: arial\; font-size: 20px\;"><a href="https://www.eventcreate.com/e/knbnkribbon"><span style="color:#0000FF\;">here</span></a></span><span style="color: rgb(0\, 0\, 0)\; font-family: arial\; font-size: 20px\;">.</span><br />\n<br />\n<span style="font-size:20px\;"><span style="font-family:arial\;"><span style="color:#000000\;">To learn more about Reform Physical Therapy\, click </span><a href="http://reform-pt.com/"><span style="color:#0000FF\;">here</span></a><span style="color:#000000\;">.</span></span></span>
LOCATION:Reform Physical Therapy 169 Port Road\, Suite 1\, Kennebunk
UID:e.1923.24416
SEQUENCE:3
DTSTAMP:20260421T180732Z
URL:https://chamber.gokennebunks.com/events/details/kka-chamber-ribbon-cutting-celebration-for-reform-physical-therapy-24416
END:VEVENT

END:VCALENDAR
