BEGIN:VCALENDAR
VERSION:2.0
PRODID:-//ChamberMaster//Event Calendar 2.0//EN
METHOD:PUBLISH
X-PUBLISHED-TTL:P3D
REFRESH-INTERVAL:P3D
CALSCALE:GREGORIAN
BEGIN:VEVENT
DTSTART:20260508T130000Z
DTEND:20260508T133000Z
X-MICROSOFT-CDO-ALLDAYEVENT:FALSE
SUMMARY:KKA Chamber: Ribbon Cutting Celebration for New Morning Natural Foods
DESCRIPTION:Please join us on Friday\, May 8 at 9 AM to help New Morning Natural Foods celebrate their 50th year with a ribbon cutting ceremony! \n\n\n\nThe address is 3 York St.\, Kennebunk. \n\n \nNew Morning Natural Foods is proud to celebrate 50 years as a family-owned business\, with two locations in southern Maine Biddeford and Kennebunk!\n\nJoin us for our 50th Anniversary celebration on Friday\, May 8 and Saturday\, May 9 from 9 AM to 6 PM at both stores.\n\nWe'll have a raffle every hour on the hour\, featuring New Morning gift cards worth up to $100\, along with a variety of raffle baskets filled with some of our favorite products. The first 50 customers to spend $50 or more will receive a special anniversary tote bag filled with samples!\n\nStop by our Kennebunk location\, and enjoy demos and samples throughout both days from some of our favorite local vendors\, including Wilbur's Chocolates\, Planted Dips\, Sweet Monkey Business (shortbread cookies and granola)\, Tootie's Tempeh\, Kittylamb Brownies\, Bixby Chocolates\, Apr s Seltzer\, and many more.\n\nOn Friday\, stop by from 10 11:30 AM to meet the goats from Noisy Acres Farm\, our beloved goat's milk soap maker. On Saturday\, catch Jeremiah grilling in the parking lot at noon. Drop by between 1 & 4 PM to Make-Your-Own Spring Tonic upstairs\, and enjoy live music from local musician Mike O'Hehir from 3 5 PM before you shop.\n\nBoth days will be filled with free treats\, including anniversary cake from our deli starting at noon on Friday.\n\nEvery purchase gives you a chance to win\, and everyone who walks through our doors can enjoy samples or take home something fun.\n\nThank you to our community for supporting us for 50 years we appreciate you so much! We hope you'll join us on May 8 and 9 so we can celebrate and share our gratitude with all of our amazing customers.
X-ALT-DESC;FMTTYPE=text/html:<span style="color:#000000\;"><span style="font-size:20px\;">Please join us on&nbsp\;<strong>Friday\, May 8 at 9 AM&nbsp\;</strong>to&nbsp\;help New Morning Natural Foods celebrate their 50th year with a ribbon cutting ceremony!&nbsp\;</span></span><br />\n<br />\n<span style="font-size:18px\;"><span style="color:#000000\;">The address is 3 York St.\, Kennebunk.&nbsp\;</span></span><br />\n&nbsp\;\n<p style="color: rgb(0\, 0\, 0)\;">New Morning Natural Foods is proud to celebrate 50 years as a family-owned business\, with two locations in southern Maine&mdash\;Biddeford and Kennebunk!</p>\n\n<p style="color: rgb(0\, 0\, 0)\;">Join us for our 50th Anniversary celebration on Friday\, May 8 and Saturday\, May 9 from 9 AM to 6 PM at both stores.</p>\n\n<p style="color: rgb(0\, 0\, 0)\;">We&rsquo\;ll have a raffle every hour on the hour\, featuring New Morning gift cards worth up to $100\, along with a variety of raffle baskets filled with some of our favorite products. The first 50 customers to spend $50 or more will receive a special anniversary tote bag filled with samples!</p>\n\n<p style="color: rgb(0\, 0\, 0)\;">Stop by our Kennebunk location\, and enjoy demos and samples throughout both days from some of our favorite local vendors\, including Wilbur&rsquo\;s Chocolates\, Planted Dips\, Sweet Monkey Business (shortbread cookies and granola)\, Tootie&rsquo\;s Tempeh\, Kittylamb Brownies\, Bixby Chocolates\, Apr&egrave\;s Seltzer\, and many more.</p>\n\n<p style="color: rgb(0\, 0\, 0)\;">On Friday\, stop by from 10&ndash\;11:30 AM to&nbsp\;<b><i>meet the goats from Noisy Acres Farm</i></b>\, our beloved goat&rsquo\;s milk soap maker. On Saturday\, catch&nbsp\;<b><i>Jeremiah grilling</i></b>&nbsp\;in the parking lot at noon. Drop by between 1 &amp\; 4 PM to&nbsp\;<i><b>Make-Your-Own Spring Tonic</b></i>&nbsp\;upstairs\,&nbsp\;and enjoy&nbsp\;<b><i>live music</i></b>&nbsp\;from local musician Mike O&rsquo\;Hehir from 3&ndash\;5 PM before you shop.</p>\n\n<p style="color: rgb(0\, 0\, 0)\;">Both days will be filled with free treats\, including anniversary cake from our deli starting at noon on Friday.</p>\n\n<p style="color: rgb(0\, 0\, 0)\;">Every purchase gives you a chance to win\, and everyone who walks through our doors can enjoy samples or take home something fun.</p>\n\n<p style="color: rgb(0\, 0\, 0)\;">Thank you to our community for supporting us for 50 years&mdash\;we appreciate you so much! We hope you&rsquo\;ll join us on May 8 and 9 so we can celebrate and share our gratitude with all of our amazing customers.</p>\n\n<p style="color: rgb(0\, 0\, 0)\;">&nbsp\;</p>\n
LOCATION:New Morning Natural Foods
UID:e.1923.39168
SEQUENCE:3
DTSTAMP:20260425T140137Z
URL:https://chamber.gokennebunks.com/events/details/kka-chamber-ribbon-cutting-celebration-for-new-morning-natural-foods-39168
END:VEVENT

END:VCALENDAR
