BEGIN:VCALENDAR
VERSION:2.0
PRODID:-//ChamberMaster//Event Calendar 2.0//EN
METHOD:PUBLISH
X-PUBLISHED-TTL:P3D
REFRESH-INTERVAL:P3D
CALSCALE:GREGORIAN
BEGIN:VEVENT
DTSTART:20240621T150000Z
DTEND:20240621T153000Z
X-MICROSOFT-CDO-ALLDAYEVENT:FALSE
SUMMARY:KKA Chamber: Ribbon Cutting Celebration for Mornings in Paris Creperie
DESCRIPTION:Please join us on Friday\, June 21 at 11 AM to help Mornings in Paris Creperie celebrate their grand opening with ribbon cutting ceremony!\n\n\n\nThe address is 21 Western Ave\, Kennebunk (behind Mornings in Paris Cafe).\n\n\n\nMornings in Paris Creperie is a French style Creperie serving freshly made crepes\, savory and sweet. Also serving sweet Belgian Waffles. \n\n\n\nThe current hours are Saturday-Sunday 9 AM - 2 PM and will be open daily throughout the summer. \n\n\n\nFor more information\, you can visit their website here.
X-ALT-DESC;FMTTYPE=text/html:<br />\n<span style="color:#000000\;"><span style="font-size:20px\;"><span style="font-family: arial\;">Please join us on&nbsp\;<strong>Friday\, June 21 at 11 AM&nbsp\;</strong>to&nbsp\;help Mornings in Paris Creperie celebrate their grand opening with ribbon cutting ceremony!<br />\n<br />\nThe address is 21 Western Ave\, Kennebunk (<em>behind Mornings in Paris Cafe</em>).<br />\n<br />\nMornings in Paris Creperie is a French style Creperie serving freshly made crepes\, savory and sweet. Also serving sweet Belgian Waffles.&nbsp\;<br />\n<br />\nThe current hours are Saturday-Sunday 9 AM - 2 PM and will be open daily throughout the summer.&nbsp\;<br />\n<br />\nFor more information\, you can visit their website <a href="https://morningsinparis.com/">here</a>.&nbsp\;</span></span></span>
LOCATION:Mornings in Paris Creperie 21 Western Ave\, Kennebunk
UID:e.1923.25333
SEQUENCE:3
DTSTAMP:20260421T140433Z
URL:https://chamber.gokennebunks.com/events/details/kka-chamber-ribbon-cutting-celebration-for-mornings-in-paris-creperie-25333
END:VEVENT

END:VCALENDAR
