BEGIN:VCALENDAR
VERSION:2.0
PRODID:-//ChamberMaster//Event Calendar 2.0//EN
METHOD:PUBLISH
X-PUBLISHED-TTL:P3D
REFRESH-INTERVAL:P3D
CALSCALE:GREGORIAN
BEGIN:VEVENT
DTSTART:20260512T170000Z
DTEND:20260512T173000Z
X-MICROSOFT-CDO-ALLDAYEVENT:FALSE
SUMMARY:KKA Chamber: Ribbon Cutting Celebration for Middle Path Health
DESCRIPTION:Please join us on Tuesday\, May 12 at 1pm to help Middle Path Health celebrate their grand opening with a ribbon cutting ceremony!
X-ALT-DESC;FMTTYPE=text/html:<span style="font-size:18px\;"><span style="font-family:arial\;"><span style="color:#000000\;">Please join us on&nbsp\;<strong>Tuesday\, May 12 at 1pm&nbsp\;</strong>to&nbsp\;help Middle Path Health celebrate their grand opening with a ribbon cutting ceremony!&nbsp\;</span></span></span><br />\n<br />\n&nbsp\;
LOCATION:Middle Path Health 149 Port Road\, Kennebunk
UID:e.1923.39173
SEQUENCE:3
DTSTAMP:20260425T135612Z
URL:https://chamber.gokennebunks.com/events/details/kka-chamber-ribbon-cutting-celebration-for-middle-path-health-39173
END:VEVENT

END:VCALENDAR
