BEGIN:VCALENDAR
VERSION:2.0
PRODID:-//ChamberMaster//Event Calendar 2.0//EN
METHOD:PUBLISH
X-PUBLISHED-TTL:P3D
REFRESH-INTERVAL:P3D
CALSCALE:GREGORIAN
BEGIN:VEVENT
DTSTART:20241024T190000Z
DTEND:20241024T200000Z
X-MICROSOFT-CDO-ALLDAYEVENT:FALSE
SUMMARY:KKA Chamber: Ribbon Cutting Celebration for Mainely Primary Care
DESCRIPTION:Please join us on Thursday\, October 24 at 3:00 PM to help Mainely Primary Care celebrate their grand opening with a ribbon cutting ceremony! \n\n\n\nThe address is 69 York St.\, Unit 4\, Kennebunk. \n\n\n\nFollowing the ribbon cutting ceremony at 3pm\, there will be a brief open house until 4pm. You can come celebrate their opening\, meet the team and see the new space!\n\n\n\nMainely Primary Care is new to Kennebunk\, offering a direct primary care model. Mainely Primary Care follows a membership-based model\, offering primary care that is affordable\, easy to access\, and even easier to understand. They strive to offer it\, 'The Way Primary Care Should Be'. To learn more\, click here.\n\n\n\nWe hope to see you there!
X-ALT-DESC;FMTTYPE=text/html:<span style="color:#000000\;"><span style="font-size:20px\;">Please join us on&nbsp\;<strong>Thursday\, October 24 at 3:00 PM&nbsp\;</strong>to&nbsp\;help Mainely Primary Care celebrate their grand opening with a ribbon cutting ceremony!&nbsp\;</span></span><br />\n<br />\n<span style="font-size:18px\;"><span style="color:#000000\;">The address is 69 York St.\, Unit 4\, Kennebunk.&nbsp\;<br />\n<br />\nFollowing the ribbon cutting ceremony at 3pm\, there will be a brief open house until 4pm. You can come celebrate their opening\, meet the team and see the new space!<br />\n<br />\nMainely Primary Care is new to Kennebunk\, offering a direct primary care model. Mainely Primary Care follows a membership-based model\, offering primary care that is affordable\, easy to access\, and even easier to understand. They strive to offer it\, &#39\;The Way Primary Care Should Be&#39\;. To learn more\, click <a href="https://www.mainelyprimarycare.com/">here</a>.<br />\n<br />\nWe hope to see you there!</span></span>
LOCATION:Mainely Primary Care 69 York St.\, Unit 4\, Kennebunk
UID:e.1923.31012
SEQUENCE:3
DTSTAMP:20260421T085054Z
URL:https://chamber.gokennebunks.com/events/details/kka-chamber-ribbon-cutting-celebration-for-mainely-primary-care-31012
END:VEVENT

END:VCALENDAR
