BEGIN:VCALENDAR
VERSION:2.0
PRODID:-//ChamberMaster//Event Calendar 2.0//EN
METHOD:PUBLISH
X-PUBLISHED-TTL:P3D
REFRESH-INTERVAL:P3D
CALSCALE:GREGORIAN
BEGIN:VEVENT
DTSTART:20240222T210000Z
DTEND:20240222T213000Z
X-MICROSOFT-CDO-ALLDAYEVENT:FALSE
SUMMARY:KKA Chamber: Ribbon Cutting Celebration for Lower Village Workshop!
DESCRIPTION:Please join us on Thursday\, February 22 at 4pm to help Lower Village Workshop celebrate their grand opening with a ribbon cutting ceremony! Lower Village Workshop will be hosting an open house style event following the ribbon cutting.\n\n\n\nThe address is 13 Western Ave\, Unit 2\, Kennebunk. \n\n\n\nHere are the open house details: \n\nBe our guest and explore our fully functioning facility\, meet our talented team of craftsmen\, learn about our passion for woodworking\, and witness firsthand the artistry behind our creations.\n\n \n\nLearn about what we have to offer with our adult woodworking classes\, and our open bench Saturday's. Whether you're a seasoned woodworker\, or simply curious\, there's something for everyone here at Lower Village Workshop.\n\n \n\nDon't miss the chance to connect with fellow woodworking enthusiasts\, discover our latest projects\, and immerse yourself in the beauty of craftsmanship.\n\n\nTo learn more about Lower Village Workshop\, click here.
X-ALT-DESC;FMTTYPE=text/html:<div style="margin-left: 15px\;">&nbsp\;</div>\n<span style="font-size:20px\;"><span style="color:#000000\;">Please join us on&nbsp\;<strong>Thursday\, February 22 at 4pm</strong> to help Lower Village Workshop celebrate their grand opening with a ribbon cutting ceremony! Lower Village Workshop will be hosting an open house style event following the ribbon cutting.<br />\n<br />\nThe address is 13 Western Ave\, Unit 2\, Kennebunk.&nbsp\;<br />\n<br />\nHere are the open house details:&nbsp\;</span></span>\n\n<div dir="auto" style="font-family: &quot\;Segoe UI Historic&quot\;\, &quot\;Segoe UI&quot\;\, Helvetica\, Arial\, sans-serif\; color: rgb(5\, 5\, 5)\; font-size: 15px\; white-space-collapse: preserve\; background-color: rgb(255\, 255\, 255)\;"><span style="font-size:16px\;">Be our guest and explore our fully functioning facility\, meet our talented team of craftsmen\, learn about our passion for woodworking\, and witness firsthand the artistry behind our creations.</span><br />\n&nbsp\;</div>\n\n<div dir="auto" style="font-family: &quot\;Segoe UI Historic&quot\;\, &quot\;Segoe UI&quot\;\, Helvetica\, Arial\, sans-serif\; color: rgb(5\, 5\, 5)\; font-size: 15px\; white-space-collapse: preserve\; background-color: rgb(255\, 255\, 255)\;"><span style="font-size:16px\;">Learn about what we have to offer with our adult woodworking classes\, and our open bench Saturday&rsquo\;s. Whether you&rsquo\;re a seasoned woodworker\, or simply curious\, there&rsquo\;s something for everyone here at Lower Village Workshop.</span><br />\n&nbsp\;</div>\n\n<div dir="auto" style="font-family: &quot\;Segoe UI Historic&quot\;\, &quot\;Segoe UI&quot\;\, Helvetica\, Arial\, sans-serif\; color: rgb(5\, 5\, 5)\; font-size: 15px\; white-space-collapse: preserve\; background-color: rgb(255\, 255\, 255)\;"><span style="font-size:16px\;">Don&rsquo\;t miss the chance to connect with fellow woodworking enthusiasts\, discover our latest projects\, and immerse yourself in the beauty of craftsmanship.</span></div>\n<br />\n<span style="font-size:20px\;"><span style="color:#000000\;">To learn more about Lower Village Workshop\, click </span><a href="https://www.facebook.com/LowerVillageWorkshop"><span style="color:#0000FF\;">here</span></a><span style="color:#000000\;">.</span></span>
LOCATION:Lower Village Workshop 13 Western Ave\, Unit 2\, Kennebunk
UID:e.1923.24414
SEQUENCE:3
DTSTAMP:20260421T204843Z
URL:https://chamber.gokennebunks.com/events/details/kka-chamber-ribbon-cutting-celebration-for-lower-village-workshop-24414
END:VEVENT

END:VCALENDAR
