BEGIN:VCALENDAR
VERSION:2.0
PRODID:-//ChamberMaster//Event Calendar 2.0//EN
METHOD:PUBLISH
X-PUBLISHED-TTL:P3D
REFRESH-INTERVAL:P3D
CALSCALE:GREGORIAN
BEGIN:VEVENT
DTSTART:20250612T190000Z
DTEND:20250612T193000Z
X-MICROSOFT-CDO-ALLDAYEVENT:FALSE
SUMMARY:KKA Chamber: Ribbon Cutting Celebration for Libations Craft Beer and Wine
DESCRIPTION:Please join us on Thursday\, June 12 at 3 PM to help Libations Craft Beer and Wine celebrate with a ribbon cutting ceremony! \n\n\n\nThe address is 169 Port Road\, Suite 12\, Kennebunk. \n\n\n\nLibations Craft Beer and Wine in Kennebunk\, Maine offers a variety of Maine craft beers and wines in a cozy\, inviting atmosphere. A perfect spot to enjoy Maine's finest beverages with friends.\n\n\n\nAllagash will be there doing free tastings!\n\n\n\nWe hope to see you there!
X-ALT-DESC;FMTTYPE=text/html:<span style="color:#000000\;"><span style="font-size:20px\;">Please join us on&nbsp\;<strong>Thursday\, June 12 at 3 PM&nbsp\;</strong>to&nbsp\;help Libations Craft Beer and Wine&nbsp\;</span></span><span style="color:#000000\;"><span style="font-size:20px\;">celebrate with a ribbon cutting ceremony!&nbsp\;</span></span><br />\n<br />\n<span style="font-size:18px\;"><span style="color:#000000\;">The address is 169 Port Road\, Suite 12\, Kennebunk.&nbsp\;</span><br />\n<br />\n<span style="color:#000000\;"><span style="font-family: Arial\, Helvetica\, sans-serif\;">Libations Craft Beer and Wine in Kennebunk\, Maine offers a variety of Maine craft beers and wines in a cozy\, inviting atmosphere. A perfect spot to enjoy Maine&rsquo\;s finest beverages with friends.<br />\n<br />\nAllagash will be there doing free tastings!</span><br />\n<br />\nWe hope to see you there!</span></span>
LOCATION:Libations Craft Beer and Wine 169 Port Road\, Kennebunk
UID:e.1923.34213
SEQUENCE:3
DTSTAMP:20260421T062845Z
URL:https://chamber.gokennebunks.com/events/details/kka-chamber-ribbon-cutting-celebration-for-libations-craft-beer-and-wine-34213
END:VEVENT

END:VCALENDAR
