BEGIN:VCALENDAR
VERSION:2.0
PRODID:-//ChamberMaster//Event Calendar 2.0//EN
METHOD:PUBLISH
X-PUBLISHED-TTL:P3D
REFRESH-INTERVAL:P3D
CALSCALE:GREGORIAN
BEGIN:VEVENT
DTSTART:20240405T200000Z
DTEND:20240405T223000Z
X-MICROSOFT-CDO-ALLDAYEVENT:FALSE
SUMMARY:KKA Chamber: Ribbon Cutting Celebration for Kennebunk Yoga and Wellness Collective!
DESCRIPTION:The ribbon cutting ceremony scheduled for 4pm TODAY will be postponed to a later date.\n\n\n\nHowever\, Kennebunk Yoga and Wellness Collective will remain OPEN from 4-6:30pm today. You are welcome to come by\, get warm\, meet the team and see the new space. Plus\, they will have delicious cookies waiting for you! \n\n\n\nStay safe everyone!\n\n\n\n--\n\n\n\nPlease join us on Friday\, April 5 at 4pm to help Kennebunk Yoga and Wellness Collective celebrate their grand opening with a ribbon cutting ceremony! There will be an open house following the ribbon cutting.\n\n\n\nThe address is 169 Port Road\, Unit 21\, Kennebunk. \n\n\n\nDuring the open house\, you'll get a chance to meet the team behind Kennebunk Yoga and Wellness Collective. Light refreshments will also be provided. For those that attend the open house or any class of their free yoga classes on Saturday\, April 6\, you will have exclusive access to discounted membership deals and 11% off all merchandise. \n\n\n\nTo learn more about Kennebunk Yoga and Wellness Collective\, click here.
X-ALT-DESC;FMTTYPE=text/html:<div style="margin-left: 15px\;">&nbsp\;</div>\n\n<div class="xdj266r x11i5rnm xat24cr x1mh8g0r x1vvkbs x126k92a" style="margin: 0px\; white-space-collapse: preserve\; overflow-wrap: break-word\; font-family: &quot\;Segoe UI Historic&quot\;\, &quot\;Segoe UI&quot\;\, Helvetica\, Arial\, sans-serif\; color: rgb(5\, 5\, 5)\; font-size: 15px\;">\n<div dir="auto" style="font-family: inherit\;"><strong><span style="font-size:20px\;">The ribbon cutting ceremony scheduled for 4pm TODAY will be postponed to a later date.</span></strong></div>\n</div>\n\n<div class="x11i5rnm xat24cr x1mh8g0r x1vvkbs xtlvy1s x126k92a" style="margin: 0.5em 0px 0px\; white-space-collapse: preserve\; overflow-wrap: break-word\; font-family: &quot\;Segoe UI Historic&quot\;\, &quot\;Segoe UI&quot\;\, Helvetica\, Arial\, sans-serif\; color: rgb(5\, 5\, 5)\; font-size: 15px\;">\n<div dir="auto" style="font-family: inherit\;"><span style="font-size:20px\;"><strong>However\, Kennebunk Yoga and Wellness Collective will remain OPEN from 4-6:30pm today. </strong>You are welcome to come by\, get warm\, meet the team and see the new space. Plus\, they will have delicious cookies waiting for you! </span></div>\n</div>\n\n<div class="x11i5rnm xat24cr x1mh8g0r x1vvkbs xtlvy1s x126k92a" style="margin: 0.5em 0px 0px\; white-space-collapse: preserve\; overflow-wrap: break-word\; font-family: &quot\;Segoe UI Historic&quot\;\, &quot\;Segoe UI&quot\;\, Helvetica\, Arial\, sans-serif\; color: rgb(5\, 5\, 5)\; font-size: 15px\;">\n<div dir="auto" style="font-family: inherit\;"><span style="font-size:20px\;">Stay safe everyone!</span><br />\n<br />\n--</div>\n</div>\n<br />\n<span style="font-size:20px\;"><span style="font-family:arial\;"><span style="color:#000000\;">Please join us on <strong>Friday\, April 5 at 4pm&nbsp\;</strong>to&nbsp\;help Kennebunk Yoga and Wellness Collective celebrate their grand opening with a ribbon cutting ceremony! There will be an open house following the ribbon cutting.<br />\n<br />\nThe address is 169 Port Road\, Unit 21\, Kennebunk.&nbsp\;<br />\n<br />\nDuring the open house\, you&#39\;ll get a chance to meet the team behind Kennebunk Yoga and Wellness Collective. Light refreshments will also be provided. For those that attend the open house or any class of their free yoga classes on Saturday\, April 6\, you will have exclusive access to discounted membership deals and 11% off all merchandise.&nbsp\;</span></span></span><br />\n<br />\n<span style="font-size:20px\;"><span style="font-family:arial\;"><span style="color:#000000\;">To learn more about Kennebunk Yoga and Wellness Collective\, click </span><a href="https://www.kennebunkyogawellnesscollective.com/"><span style="color:#0000FF\;">here</span></a><span style="color:#000000\;">.</span></span></span>
LOCATION:Kennebunk Yoga and Wellness Collective 169 Port Road\, Unit 21\, Kennebunk
UID:e.1923.24499
SEQUENCE:3
DTSTAMP:20260421T164405Z
URL:https://chamber.gokennebunks.com/events/details/kka-chamber-ribbon-cutting-celebration-for-kennebunk-yoga-and-wellness-collective-24499
END:VEVENT

END:VCALENDAR
