BEGIN:VCALENDAR
VERSION:2.0
PRODID:-//ChamberMaster//Event Calendar 2.0//EN
METHOD:PUBLISH
X-PUBLISHED-TTL:P3D
REFRESH-INTERVAL:P3D
CALSCALE:GREGORIAN
BEGIN:VEVENT
DTSTART:20240607T150000Z
DTEND:20240607T153000Z
X-MICROSOFT-CDO-ALLDAYEVENT:FALSE
SUMMARY:KKA Chamber: Ribbon Cutting Celebration for Goose Rocks Beach General Store
DESCRIPTION:Please join us on Friday\, June 7 at 11 AM to help Goose Rocks Beach General Store celebrate their grand re-opening under new ownership. \n\n\n\nThe address is 3 Dyke Road\, Kennebunkport.\n\n\n\nGoose Rocks Beach General Store is a convenience store and cafe all under one roof. Located a stones throw from the beautiful Goose Rocks Beach. They enjoy serving their Goose Rocks neighbors and the beach visitors throughout the summer.\n\n\n\nTheir current hours are Saturday-Sunday 7am - 5pm and Monday-Friday 8am-5pm. They will move to 7am-5pm everyday in the middle of June.\n\n\n\nThey serve fresh coffee\, espresso drinks\, pastries and macarons provided by Mornings and Paris cafe. Baguette sandwiches\, pizza\, crepes\, breakfast items\, chicken tenders\, fries\, mozzarella sticks and more.\n\n\n\nIn the store they sell everything from alcohol\, snacks\, candy\, ice cream\, medical and bathroom essentials\, toys and beach items. We also have an area dedicated to Made in Maine.\n\n\n\nYou'll soon be able to order their cooked food online for pick up.
X-ALT-DESC;FMTTYPE=text/html:<br />\n<span style="color:#000000\;"><span style="font-size:20px\;"><span style="font-family: arial\;">Please join us on&nbsp\;<strong>Friday\, June 7 at 11 AM&nbsp\;</strong>to&nbsp\;help Goose Rocks Beach General Store celebrate their grand re-opening under new ownership.&nbsp\;<br />\n<br />\nThe address is 3 Dyke Road\, Kennebunkport.<br />\n<br />\nGoose Rocks Beach General Store is a convenience store and cafe all under one roof. </span></span></span><span style="font-size:20px\;"><span style="color: rgb(34\, 34\, 34)\; font-family: Arial\, Helvetica\, sans-serif\;">Located a stones throw from the beautiful Goose Rocks Beach. They enjoy serving their Goose Rocks neighbors and the beach visitors throughout the summer.<br />\n<br />\nTheir current hours are Saturday-Sunday 7am - 5pm and Monday-Friday 8am-5pm. They will move to 7am-5pm everyday in the middle of June.</span><br style="color: rgb(34\, 34\, 34)\; font-family: Arial\, Helvetica\, sans-serif\; font-size: small\;" />\n<br style="color: rgb(34\, 34\, 34)\; font-family: Arial\, Helvetica\, sans-serif\; font-size: small\;" />\n<span style="color: rgb(34\, 34\, 34)\; font-family: Arial\, Helvetica\, sans-serif\;">They serve fresh coffee\, espresso drinks\, pastries and macarons provided by Mornings and Paris cafe. Baguette sandwiches\, pizza\, crepes\, breakfast items\, chicken tenders\, fries\, mozzarella sticks and more.</span><br style="color: rgb(34\, 34\, 34)\; font-family: Arial\, Helvetica\, sans-serif\; font-size: small\;" />\n<br style="color: rgb(34\, 34\, 34)\; font-family: Arial\, Helvetica\, sans-serif\; font-size: small\;" />\n<span style="color: rgb(34\, 34\, 34)\; font-family: Arial\, Helvetica\, sans-serif\;">In the store they sell everything from alcohol\, snacks\, candy\, ice cream\, medical and bathroom essentials\, toys and beach items. We also have an area dedicated to Made in Maine.</span><br style="color: rgb(34\, 34\, 34)\; font-family: Arial\, Helvetica\, sans-serif\; font-size: small\;" />\n<br style="color: rgb(34\, 34\, 34)\; font-family: Arial\, Helvetica\, sans-serif\; font-size: small\;" />\n<span style="color: rgb(34\, 34\, 34)\; font-family: Arial\, Helvetica\, sans-serif\;">You&#39\;ll soon be able to order their cooked food online for pick up.</span></span>
LOCATION:Goose Rocks Beach General Store 3 Dyke Road\, Kennebunkport
UID:e.1923.25313
SEQUENCE:3
DTSTAMP:20260421T140435Z
URL:https://chamber.gokennebunks.com/events/details/kka-chamber-ribbon-cutting-celebration-for-goose-rocks-beach-general-store-25313
END:VEVENT

END:VCALENDAR
