BEGIN:VCALENDAR
VERSION:2.0
PRODID:-//ChamberMaster//Event Calendar 2.0//EN
METHOD:PUBLISH
X-PUBLISHED-TTL:P3D
REFRESH-INTERVAL:P3D
CALSCALE:GREGORIAN
BEGIN:VEVENT
DTSTART:20250220T193000Z
DTEND:20250220T200000Z
X-MICROSOFT-CDO-ALLDAYEVENT:FALSE
SUMMARY:KKA Chamber: Ribbon Cutting Celebration for Dr. Michelle Blew\, Optometrist!
DESCRIPTION:Please join us on Thursday\, February 20th at 2:30pm to help Dr. Michelle Blew\, O.D. - Optometrist celebrate her grand opening with a ribbon cutting ceremony! \n\n\n\nThe address is 183 Port Road\, Kennebunk. \n\n\n\nDr. Blew is an optometrist and has recently opened her own private eye clinic. Dr. Blew offers comprehensive eye care for all ages and vision needs. This includes annual eye exams\, eye emergencies\, eye disease management\, diabetic eye exams\, macular degeneration and more. \n\n\n\nYou can visit her website here.
X-ALT-DESC;FMTTYPE=text/html:<br />\n<span style="font-size:18px\;"><span style="font-family:arial\;"><span style="color:#000000\;">Please join us on&nbsp\;<strong>Thursday\, February 20th at 2:30pm&nbsp\;</strong>to&nbsp\;help Dr. Michelle Blew\, O.D. - Optometrist celebrate her grand opening with a ribbon cutting ceremony!&nbsp\;<br />\n<br />\nThe address is 183 Port Road\, Kennebunk.&nbsp\;</span></span></span><br />\n<br />\n<span style="font-size:18px\;"><span style="font-family:arial\;"><span style="color:#000000\;">Dr. Blew is an optometrist and has recently opened her own private eye clinic. Dr. Blew offers comprehensive eye care for all ages and vision needs. This includes annual eye exams\, eye emergencies\, eye disease management\, diabetic eye exams\, macular degeneration and more.&nbsp\;<br />\n<br />\nYou can visit her website <a href="https://www.drblewoptometry.com/?noamp">here</a>.&nbsp\;</span></span></span>
LOCATION:Michelle Blew\, O.D. - Optometrist 183 Port Road\, Kennebunk
UID:e.1923.33098
SEQUENCE:3
DTSTAMP:20260421T003705Z
URL:https://chamber.gokennebunks.com/events/details/kka-chamber-ribbon-cutting-celebration-for-dr-michelle-blew-optometrist-33098
END:VEVENT

END:VCALENDAR
