BEGIN:VCALENDAR
VERSION:2.0
PRODID:-//ChamberMaster//Event Calendar 2.0//EN
METHOD:PUBLISH
X-PUBLISHED-TTL:P3D
REFRESH-INTERVAL:P3D
CALSCALE:GREGORIAN
BEGIN:VEVENT
DTSTART:20240618T180000Z
DTEND:20240618T183000Z
X-MICROSOFT-CDO-ALLDAYEVENT:FALSE
SUMMARY:KKA Chamber: Ribbon Cutting Celebration for Coldwell Banker Realty!
DESCRIPTION:Please join us on Tuesday\, June 18 at 2pm to help Coldwell Banker Realty celebrate the grand opening of their new location with a ribbon cutting ceremony! They have moved from Lower Village\, Kennebunk.\n\n\n\nThe address is 11 Main Street\, Suite 4\, Kennebunk. \n\n\n\nThe Kennebunk office of Coldwell Banker Realty serves all of York County\, from the ocean\, to the lakes\, and the hills. If you are interested in residential and seasonal properties\, home lots\, or acreage\, please call or email. This office is the market leader and takes pride in a professional approach in representing seller and buyer clients. You can visit their website here.
X-ALT-DESC;FMTTYPE=text/html:<br />\n<span style="font-size:18px\;"><span style="font-family:arial\;"><span style="color:#000000\;">Please join us on&nbsp\;<strong>Tuesday\, June 18 at 2pm&nbsp\;</strong>to&nbsp\;help Coldwell Banker Realty celebrate the grand opening of their new location with a ribbon cutting ceremony! They have moved from Lower Village\, Kennebunk.<br />\n<br />\nThe address is 11 Main Street\, Suite 4\, Kennebunk.&nbsp\;<br />\n<br />\nThe Kennebunk office of Coldwell Banker Realty serves all of York County\, from the ocean\, to the lakes\, and the hills. If you are interested in residential and seasonal properties\, home lots\, or acreage\, please call or email. This office is the market leader and takes pride in a professional approach in representing seller and buyer clients. You can visit their website <a href="http://www.coldwellbanker.com/me/kennebunk/offices/coldwell-banker-realty/oid-P00400000FDdqQnkdMVsrTAoZpLYLl0RzHVCZBPX">here</a>.&nbsp\;</span></span></span>
LOCATION:Coldwell Banker Realty 11 Main Street\, Suite 4\, Kennebunk
UID:e.1923.25331
SEQUENCE:3
DTSTAMP:20260421T140706Z
URL:https://chamber.gokennebunks.com/events/details/kka-chamber-ribbon-cutting-celebration-for-coldwell-banker-realty-25331
END:VEVENT

END:VCALENDAR
