BEGIN:VCALENDAR
VERSION:2.0
PRODID:-//ChamberMaster//Event Calendar 2.0//EN
METHOD:PUBLISH
X-PUBLISHED-TTL:P3D
REFRESH-INTERVAL:P3D
CALSCALE:GREGORIAN
BEGIN:VEVENT
DTSTART:20240626T180000Z
DTEND:20240626T183000Z
X-MICROSOFT-CDO-ALLDAYEVENT:FALSE
SUMMARY:KKA Chamber: Ribbon Cutting Celebration for Beach Tree Thrift
DESCRIPTION:Please join us on Wednesday\, June 26 at 2pm to help Beach Tree Thrift celebrate their grand opening with a ribbon cutting ceremony! \n\n\n\nThe address is 1652 Portland Road\, Arundel. \n\n\n\nDuring the event\, guests can enjoy 25% off any purchase. Food and drinks will be provided by Pig Pen BBQ.\n\n\n\nBeach Tree Thrift is a hip\, unique and artistically creative charitable foundation built entirely on the generous donations of our community.\n\n\n\nOur mission is to promote environmental sustainability by diverting reusable goods from landfills and encouraging a culture of reuse\, repurposing and upcycling through our donation-based business model. To support local community outreach initiatives by donating suitable portions of our proceeds to Community Outreach Services.\n\n\n\nYou can learn more here.
X-ALT-DESC;FMTTYPE=text/html:<br />\n<span style="font-size:18px\;"><span style="font-family:arial\;"><span style="color:#000000\;">Please join us on&nbsp\;<strong>Wednesday\, June 26 at 2pm&nbsp\;</strong>to&nbsp\;help Beach Tree Thrift celebrate their grand opening with a ribbon cutting ceremony!&nbsp\;<br />\n<br />\nThe address is 1652 Portland Road\, Arundel.&nbsp\;<br />\n<br />\nDuring the event\, guests can enjoy 25% off any purchase. Food and drinks will be provided by Pig Pen BBQ.<br />\n<br />\nBeach Tree Thrift is a hip\, unique and artistically creative charitable foundation built entirely on the generous donations of our community.<br />\n<br />\nOur mission is to promote environmental sustainability by diverting reusable goods from landfills and encouraging a culture of reuse\, repurposing and upcycling through our donation-based business model. To support local community outreach initiatives by donating suitable portions of our proceeds to Community Outreach Services.<br />\n<br />\nYou can learn more&nbsp\;<a href="https://www.facebook.com/profile.php?id=61557611104980">here</a>.</span></span></span>
LOCATION:Beach Tree Thrift 1652 Portland Road\, Arundel
UID:e.1923.25422
SEQUENCE:3
DTSTAMP:20260420T062642Z
URL:https://chamber.gokennebunks.com/events/details/kka-chamber-ribbon-cutting-celebration-for-beach-tree-thrift-25422
END:VEVENT

END:VCALENDAR
