BEGIN:VCALENDAR
VERSION:2.0
PRODID:-//ChamberMaster//Event Calendar 2.0//EN
METHOD:PUBLISH
X-PUBLISHED-TTL:P3D
REFRESH-INTERVAL:P3D
CALSCALE:GREGORIAN
BEGIN:VEVENT
DTSTART:20240308T213000Z
DTEND:20240308T220000Z
X-MICROSOFT-CDO-ALLDAYEVENT:FALSE
SUMMARY:KKA Chamber: Ribbon Cutting Celebration for A Joyful Noise Preschool & Childcare Center!
DESCRIPTION:Please join us on Friday\, March 8 to help A Joyful Noise Preschool & Childcare Center celebrate their grand opening of their newest location in Wells with a ribbon cutting ceremony! \n\n\n\nThere will be light refreshments\, chances for on the spot enrollment and school tours available following the ribbon cutting.\n\n\n\nThe address is 2128 Post Road\, Wells.\n\n\n\nTo learn more about A Joyful Noise Preschool and Childcare Center\, click here.
X-ALT-DESC;FMTTYPE=text/html:<div style="margin-left: 15px\;">&nbsp\;</div>\n<span style="font-size:20px\;"><span style="color:#000000\;">Please join us on&nbsp\;<strong>Friday\, March 8</strong> to help A Joyful Noise Preschool &amp\; Childcare Center celebrate their grand opening of their newest location in Wells with a ribbon cutting ceremony!&nbsp\;<br />\n<br />\nThere will be light refreshments\, chances for on the spot enrollment and school tours available following the ribbon cutting.<br />\n<br />\nThe address is 2128 Post Road\, Wells.</span></span><br />\n<br />\n<span style="font-size:20px\;"><span style="color:#000000\;">To learn more about A Joyful Noise Preschool and Childcare Center\, click </span><a href="https://www.ajoyfulnoisepreschool.org/"><span style="color:#0000FF\;">here</span></a><span style="color:#000000\;">.</span></span>
LOCATION:A Joyful Noise Preschool & Childcare 2128 Post Road\, Wells
UID:e.1923.24417
SEQUENCE:3
DTSTAMP:20260421T180905Z
URL:https://chamber.gokennebunks.com/events/details/kka-chamber-ribbon-cutting-celebration-for-a-joyful-noise-preschool-childcare-center-24417
END:VEVENT

END:VCALENDAR
