BEGIN:VCALENDAR
VERSION:2.0
PRODID:-//ChamberMaster//Event Calendar 2.0//EN
METHOD:PUBLISH
X-PUBLISHED-TTL:P3D
REFRESH-INTERVAL:P3D
CALSCALE:GREGORIAN
BEGIN:VEVENT
DTSTART:20240207T130000Z
DTEND:20240207T140000Z
X-MICROSOFT-CDO-ALLDAYEVENT:FALSE
SUMMARY:KKA Chamber: Instagram for Business
DESCRIPTION:We are excited to be offering a comprehensive four part\n\nSocial Media Workshop series for 2024.\n\n\n\nInstagram for Business\n\n\n\nHow to use Instagram to expand your marketing reach. \n\n\n\nThis workshop will feature guest speakers Rob Labelle and Barbara Darroch.\n\n\n\nRob Labelle is the owner of Strategic Digital Marketing working with businesses to build websites and digital marketing campaigns. \n\n\n\nBrenda Darroch is a marketing consultant who helps small businesses reach their revenue goals through digital marketing channels. She previously served as marketing director for for Atlantic Holdings\, Hay Creek Hotels\, and the Kennebunkport Resort collection. She spent nearly a decade at Yankee Magazine\, where she served as the digital editor. Brenda lives with her husband in Kennebunk.
X-ALT-DESC;FMTTYPE=text/html:<span style="font-size:16px\;">We are excited to be offering a&nbsp\;comprehensive four part<br />\nSocial Media Workshop series for 2024.</span><br />\n<br />\n<span style="font-size: 24px\;"><b>Instagram for Business</b></span><br />\n<br />\n<span style="font-size:14px\;"><span style="font-family:arial\;"><span class="OYPEnA text-decoration-none text-strikethrough-none">How to use Instagram to expand your marketing reach.&nbsp\;</span><br />\n<br />\nThis workshop will feature guest speakers Rob Labelle and Barbara Darroch.<br />\n<br />\nRob Labelle is the owner of Strategic Digital Marketing working with businesses to build websites and digital marketing campaigns.&nbsp\;<br />\n<br />\n<span style="color: rgb(34\, 34\, 34)\;">Brenda Darroch is a marketing consultant who helps small businesses reach their revenue goals through digital marketing channels. She previously served as marketing director for for Atlantic Holdings\, Hay Creek Hotels\, and the Kennebunkport Resort collection. She spent nearly a decade at Yankee Magazine\, where she served as the digital editor. Brenda lives with her husband in Kennebunk.</span></span></span><br />\n&nbsp\;
LOCATION:Kennebunk-Kennebunkport-Arundel Chamber of Commerce 16 Water Street\, Kennebunk
UID:e.1923.24183
SEQUENCE:3
DTSTAMP:20260421T204719Z
URL:https://chamber.gokennebunks.com/events/details/kka-chamber-instagram-for-business-24183
END:VEVENT

END:VCALENDAR
