BEGIN:VCALENDAR
VERSION:2.0
PRODID:-//ChamberMaster//Event Calendar 2.0//EN
METHOD:PUBLISH
X-PUBLISHED-TTL:P3D
REFRESH-INTERVAL:P3D
CALSCALE:GREGORIAN
BEGIN:VEVENT
DTSTART:20230920T160000Z
DTEND:20230920T170000Z
X-MICROSOFT-CDO-ALLDAYEVENT:FALSE
SUMMARY:KKA Chamber: How to Promote your Local Event Workshop
DESCRIPTION:The Chamber is excited to host a FREE 'How to Promote your Local Event' workshop on Wednesday\, 9/20 from 12-1pm. \n\n\n\nSo you've planned a promising event! Now what? Chamber staff will lead this workshop and outline tried-and-true best practices for promoting your event in the Kennebunks\; from print and digital advertising\, pitching the press\, social media and local bulletin boards\, learn what has worked from those who have done it!\n\n\n\nFormer journalist-turned-executive-director Laura Dolce will outline the basics of writing a press release\; Membership and Marketing Manager Kristin Nagy will talk about ways to leverage your Chamber membership to promote your event\; many are free with membership!\n\n\n\nJoin us in person at our office (16 Water St.\, Kennebunk) or virtually.\n\n\n\nZoom Details: \n\nhttps://us02web.zoom.us/j/83718980142?pwd=aWEzajgyUXEzQStyaTNCNmxKcGc5QT09\n\nMeeting ID: 837 1898 0142\n\nPasscode: 004186\n\n\n\nWant to learn more about membership? Click here!
X-ALT-DESC;FMTTYPE=text/html:<p><br />\n<span style="font-size:18px\;"><span style="font-size:20px\;"><strong>The Chamber is excited to host a FREE &#39\;How to Promote your Local Event&#39\; workshop&nbsp\;on Wednesday\, 9/20&nbsp\;from 12-1pm.&nbsp\;</strong></span></span><br />\n<br />\n<span style="font-size:18px\;"><span style="color: rgb(34\, 34\, 34)\; font-family: Arial\, Helvetica\, sans-serif\;">So you&rsquo\;ve planned a promising event! Now what? Chamber staff will lead this workshop and outline tried-and-true best practices for promoting your event in the Kennebunks\; from print and digital advertising\, pitching the press\, social media and local bulletin boards\, learn what has worked from those who have done it!<br />\n<br />\nFormer journalist-turned-executive-</span><wbr style="color: rgb(34\, 34\, 34)\; font-family: Arial\, Helvetica\, sans-serif\; font-size: small\;" /></span><span style="color: rgb(34\, 34\, 34)\; font-family: Arial\, Helvetica\, sans-serif\; font-size: small\;"><span style="font-size:18px\;">director Laura Dolce will outline the basics of writing a press release\; Membership and Marketing Manager Kristin Nagy will talk about ways to leverage your Chamber membership to promote your event\; many are free with membership!</span></span><br />\n<br />\n<strong style="font-size: 18px\;">Join us in person at our office (16 Water St.\, Kennebunk) or virtually.</strong><br />\n<br />\n<span style="font-size: 18px\;"><strong>Zoom Details:&nbsp\;</strong></span><br />\n<a href="https://us02web.zoom.us/j/83718980142?pwd=aWEzajgyUXEzQStyaTNCNmxKcGc5QT09" style="color: var(--primary)\; font-family: Roboto\, Arial\, sans-serif\; font-size: 14px\; letter-spacing: 0.2px\; white-space-collapse: preserve\;" target="_blank"><span style="color:#0000FF\;">https://us02web.zoom.us/j/83718980142?pwd=aWEzajgyUXEzQStyaTNCNmxKcGc5QT09</span></a><br />\n<span style="white-space-collapse: preserve\; color: rgb(60\, 64\, 67)\; font-family: Roboto\, Arial\, sans-serif\; font-size: 14px\; letter-spacing: 0.2px\;">Meeting ID: 837 1898 0142</span><br style="color: rgb(60\, 64\, 67)\; font-family: Roboto\, Arial\, sans-serif\; font-size: 14px\; letter-spacing: 0.2px\; white-space-collapse: preserve\;" />\n<span style="white-space-collapse: preserve\; color: rgb(60\, 64\, 67)\; font-family: Roboto\, Arial\, sans-serif\; font-size: 14px\; letter-spacing: 0.2px\;">Passcode: 004186</span><br />\n<br />\n<span style="font-size: 18px\;">Want to learn more about membership? Click&nbsp\;<a href="https://gokennebunks.com/members/"><span style="color: rgb(0\, 0\, 255)\;">here</span></a>!</span></p>\n
LOCATION:IN PERSON:16 Water St.\, Kennebunk VIRTUALLY: https://us02web.zoom.us/j/83718980142?pwd=aWEzajgyUXEzQStyaTNCNmxKcGc5QT09
UID:e.1923.22463
SEQUENCE:3
DTSTAMP:20260422T034112Z
URL:https://chamber.gokennebunks.com/events/details/kka-chamber-how-to-promote-your-local-event-workshop-22463
END:VEVENT

END:VCALENDAR
