BEGIN:VCALENDAR
VERSION:2.0
PRODID:-//ChamberMaster//Event Calendar 2.0//EN
METHOD:PUBLISH
X-PUBLISHED-TTL:P3D
REFRESH-INTERVAL:P3D
CALSCALE:GREGORIAN
BEGIN:VEVENT
DTSTART:20250212T133000Z
DTEND:20250212T143000Z
X-MICROSOFT-CDO-ALLDAYEVENT:FALSE
SUMMARY:KKA Chamber: Business Community Partners
DESCRIPTION:We are pleased to host our February Workshop with a panel of experienced small business owners who have successfully built strong connections with other local businesses to foster growth and advancement . \n\n\n\nPanel includes Tiffany from The Daily Sweat\, Michelle of Boulangerie\, Olivia from Shoe Box & Co.
X-ALT-DESC;FMTTYPE=text/html:<p><span style="font-size:16px\;"><strong>We are pleased to host our February Workshop&nbsp\;with a panel of experienced small business owners who have successfully built strong connections with other local businesses to foster growth and&nbsp\;advancement&#8203\;.&nbsp\;</strong></span><br />\n<br />\n<span style="font-size:18px\;">Panel includes Tiffany from The Daily Sweat\, Michelle of Boulangerie\, Olivia from Shoe Box &amp\; Co.</span><br />\n<br />\n&nbsp\;</p>\n
LOCATION:IN PERSON:16 Water St.\, Kennebunk
UID:e.1923.33113
SEQUENCE:3
DTSTAMP:20260420T230425Z
URL:https://chamber.gokennebunks.com/events/details/kka-chamber-business-community-partners-33113
END:VEVENT

END:VCALENDAR
