BEGIN:VCALENDAR
VERSION:2.0
PRODID:-//ChamberMaster//Event Calendar 2.0//EN
METHOD:PUBLISH
X-PUBLISHED-TTL:P3D
REFRESH-INTERVAL:P3D
CALSCALE:GREGORIAN
BEGIN:VEVENT
DTSTART:20240328T120000Z
DTEND:20240328T130000Z
X-MICROSOFT-CDO-ALLDAYEVENT:FALSE
SUMMARY:KKA Chamber: Best Practices on 3 Towns\, 1 Community
DESCRIPTION:Join us for an informative workshop on the Chamber's 3 Towns\, 1 Community Facebook Group!\n\n\n\nLed by Laura Dolce\, Chamber's Executive Director\, she'll dive into all you'll need to know on how to maximize this resource for Chamber members and Community members. You'll learn how it can help your business\, understand the rules and more! \n\n\n\nThis in-person workshop will be held on March 28 at 8 AM. It will be held at our office\, 16 Water Street in Kennebunk.\n\n\n\nIf you have any questions\, please reach out to Jamie Barth at events@gokennebunks.com.\n\n\n\nTo access our 3 Towns\, 1 Community Facebook group\, click here.\n\n\n\nWe look forward to seeing you there!
X-ALT-DESC;FMTTYPE=text/html:<span style="font-size:18px\;"><strong>Join us for an informative workshop on the Chamber&#39\;s 3 Towns\, 1 Community Facebook Group!</strong><br />\n<br />\nLed by Laura Dolce\, Chamber&#39\;s Executive Director\, she&#39\;ll dive into all you&#39\;ll need to know on how to maximize this resource for Chamber members and Community members. You&#39\;ll learn how it can help your business\, understand the rules and more!&nbsp\;<br />\n<br />\nThis in-person workshop will be held on March 28 at 8 AM. It will be held at our office\, 16 Water Street in Kennebunk.<br />\n<br />\nIf you have any questions\, please reach out to Jamie Barth at events@gokennebunks.com.<br />\n<br />\nTo access our 3 Towns\, 1 Community Facebook group\, click <a href="https://www.facebook.com/groups/KKAchamber">here</a>.<br />\n<br />\nWe look forward to seeing you there!&nbsp\;</span>
LOCATION:Kennebunk-Kennebunkport-Arundel Chamber of Commerce 16 Water Street\, Kennebunk
UID:e.1923.24502
SEQUENCE:3
DTSTAMP:20260421T180622Z
URL:https://chamber.gokennebunks.com/events/details/kka-chamber-best-practices-on-3-towns-1-community-24502
END:VEVENT

END:VCALENDAR
