BEGIN:VCALENDAR
VERSION:2.0
PRODID:-//ChamberMaster//Event Calendar 2.0//EN
METHOD:PUBLISH
X-PUBLISHED-TTL:P3D
REFRESH-INTERVAL:P3D
CALSCALE:GREGORIAN
BEGIN:VEVENT
DTSTART:20240430T150000Z
DTEND:20240430T153000Z
X-MICROSOFT-CDO-ALLDAYEVENT:FALSE
SUMMARY:KKA Chamber: Alisson's Restaurant Grand Re-opening and Ribbon Cutting Ceremony
DESCRIPTION:Please join us on Tuesday\, April 30 at 11:00 AM to help Alisson's Restaurant celebrate their grand re-opening with a ribbon cutting ceremony!\n\nThe address is 11 Dock Square\, Kennebunkport.\n\nAlisson's Restaurant\, a staple in our community\, recently went through a major renovation of their space. PLUS they have revamped their menu. Who's excited?!?!?!\n\nTo learn more about Alisson's Restaurant\, click here.\n\nWe hope to see you there!
X-ALT-DESC;FMTTYPE=text/html:<div class="xdj266r x11i5rnm xat24cr x1mh8g0r x1vvkbs" style="margin: 0px\; overflow-wrap: break-word\; font-family: &quot\;Segoe UI Historic&quot\;\, &quot\;Segoe UI&quot\;\, Helvetica\, Arial\, sans-serif\; color: rgb(5\, 5\, 5)\; font-size: 15px\;"><strong><span style="font-size:18px\;"><span style="font-family:arial\;">Please join us on Tuesday\, April 30 at 11:00 AM to help Alisson&#39\;s Restaurant celebrate their grand re-opening with a ribbon cutting ceremony!</span></span></strong></div>\n\n<div class="x11i5rnm xat24cr x1mh8g0r x1vvkbs xtlvy1s" style="margin: 0.5em 0px 0px\; overflow-wrap: break-word\; font-family: &quot\;Segoe UI Historic&quot\;\, &quot\;Segoe UI&quot\;\, Helvetica\, Arial\, sans-serif\; color: rgb(5\, 5\, 5)\; font-size: 15px\;"><span style="font-size:18px\;"><span style="font-family:arial\;">The address is 11 Dock Square\, Kennebunkport.</span></span></div>\n\n<div class="x11i5rnm xat24cr x1mh8g0r x1vvkbs xtlvy1s" style="margin: 0.5em 0px 0px\; overflow-wrap: break-word\; font-family: &quot\;Segoe UI Historic&quot\;\, &quot\;Segoe UI&quot\;\, Helvetica\, Arial\, sans-serif\; color: rgb(5\, 5\, 5)\; font-size: 15px\;"><span style="font-size:18px\;"><span style="font-family:arial\;">Alisson&#39\;s Restaurant\, a staple in our community\, recently went through a major renovation of their space. PLUS they have revamped their menu. Who&#39\;s excited?!?!?!</span></span></div>\n\n<div class="x11i5rnm xat24cr x1mh8g0r x1vvkbs xtlvy1s" style="margin: 0.5em 0px 0px\; overflow-wrap: break-word\; font-family: &quot\;Segoe UI Historic&quot\;\, &quot\;Segoe UI&quot\;\, Helvetica\, Arial\, sans-serif\; color: rgb(5\, 5\, 5)\; font-size: 15px\;"><span style="font-size:18px\;"><span style="font-family:arial\;">To learn more about Alisson&#39\;s Restaurant\, click <a href="https://www.alissons.com/">here</a>.</span></span></div>\n\n<div class="x11i5rnm xat24cr x1mh8g0r x1vvkbs xtlvy1s" style="margin: 0.5em 0px 0px\; overflow-wrap: break-word\; font-family: &quot\;Segoe UI Historic&quot\;\, &quot\;Segoe UI&quot\;\, Helvetica\, Arial\, sans-serif\; color: rgb(5\, 5\, 5)\; font-size: 15px\;"><span style="font-size:18px\;"><span style="font-family:arial\;">We hope to see you there!</span></span></div>\n
LOCATION:Alisson's Restaurant 11 Dock Square\, Kennebunkport
UID:e.1923.25243
SEQUENCE:3
DTSTAMP:20260421T164406Z
URL:https://chamber.gokennebunks.com/events/details/kka-chamber-alisson-s-restaurant-grand-re-opening-and-ribbon-cutting-ceremony-25243
END:VEVENT

END:VCALENDAR
