BEGIN:VCALENDAR
VERSION:2.0
PRODID:-//ChamberMaster//Event Calendar 2.0//EN
METHOD:PUBLISH
X-PUBLISHED-TTL:P3D
REFRESH-INTERVAL:P3D
CALSCALE:GREGORIAN
BEGIN:VEVENT
DTSTART:20250319T120000Z
DTEND:20250319T130000Z
X-MICROSOFT-CDO-ALLDAYEVENT:FALSE
SUMMARY:KKA Chamber: Advanced Instagram + Facebook
DESCRIPTION:We are pleased to host our March Workshop with a panel of experienced business owners who have successfully used social media marketing to improve their outreach\n\n\n\nCaroline Meyer DeBruyckere is the marketing leader behind Atlantic Hospitality\, where she shapes powerful brand narratives that bring Maine's most iconic hotels and resorts to life. With a passion for hospitality\, brand strategy\, and joyful guest experiences\, she specializes in leveraging Instagram and Facebook to build authentic connections\, drive engagement\, and turn followers into loyal guests.\n\n\n\nZac Little is the Marketing Content Manager at Kennebunk Savings. He manages the Bank's website and social media channels\, as well as other community-focused public communication. He is a videographer\, writer\, and editor\, but also a father\, musician\, and public speaker. He is the host of the podcast Make A Mixtape\, a music-and-interview show. He lives in Rollinsford\, NH.
X-ALT-DESC;FMTTYPE=text/html:<p><span style="font-size:16px\;"><strong>We are pleased to host our March Workshop&nbsp\;with a panel of experienced business owners who have successfully used social media marketing to improve their outreach</strong></span><br />\n<br />\n<span style="font-family:arial\;"><span style="color: rgb(0\, 0\, 0)\; font-size: 16px\;"><strong>Caroline Meyer DeBruyckere</strong> is the marketing leader behind Atlantic Hospitality\, where she shapes powerful brand narratives that bring Maine&rsquo\;s most iconic hotels and resorts to life. With a passion for hospitality\, brand strategy\, and joyful guest experiences\, she specializes in leveraging Instagram and Facebook to build authentic connections\, drive engagement\, and turn followers into loyal guests.</span><br />\n<br />\n<span style="font-size:16px\;"><span style="color: rgb(34\, 34\, 34)\;"><strong>Zac Little</strong> is the Marketing Content Manager at Kennebunk Savings. He manages the Bank&#39\;s website and social media channels\, as well as other community-focused public communication. He is a videographer\, writer\, and editor\, but also a father\, musician\, and public speaker. He is the host of the podcast Make A Mixtape\, a music-and-interview show. He lives in Rollinsford\, NH.&nbsp\;</span></span></span><br />\n<br />\n<br />\n&nbsp\;</p>\n
LOCATION:IN PERSON:16 Water St.\, Kennebunk
UID:e.1923.33263
SEQUENCE:3
DTSTAMP:20260420T230145Z
URL:https://chamber.gokennebunks.com/events/details/kka-chamber-advanced-instagram-facebook-33263
END:VEVENT

END:VCALENDAR
