BEGIN:VCALENDAR
VERSION:2.0
PRODID:-//ChamberMaster//Event Calendar 2.0//EN
METHOD:PUBLISH
X-PUBLISHED-TTL:P3D
REFRESH-INTERVAL:P3D
CALSCALE:GREGORIAN
BEGIN:VEVENT
DTSTART:20240627T150000Z
DTEND:20240627T154500Z
X-MICROSOFT-CDO-ALLDAYEVENT:FALSE
SUMMARY:KINDKIDS CONCERT
DESCRIPTION:Thursday\, June 27 at 11 AM. KindKids Concert with Rob Duquette and Amanda Panda. KindKids Music is a dynamic duo with original music\, puppets\, and a highly interactive performance for all ages. Rob Duquette and Amanda Panda share tools for emotional resilience\, foster kindness\, and encourage wellness\, all while making music and having FUN! This concert is for all ages. Pre-registration is required. The Louis T. Graves Memorial Public Library is at 18 Maine Street\, Kennebunkport. For further information\, please call 967-2778 or visit our website at www.graveslibrary.org.
X-ALT-DESC;FMTTYPE=text/html:<p><span style="font-family:arial\,sans-serif\; font-size:10.5pt">Thursday\, June 27 at 11 AM. <strong>KindKids Concert with Rob Duquette and Amanda Panda</strong>. KindKids Music is a dynamic duo with original music\, puppets\, and a highly interactive performance for all ages. Rob Duquette and Amanda Panda share tools for emotional resilience\, foster kindness\, and encourage wellness\, all while making music and having FUN! This concert is for all ages. Pre-registration is required. The Louis T. Graves Memorial Public Library is at 18 Maine Street\, Kennebunkport. For further information\, please call 967-2778 or visit our website at </span><a href="http://www.graveslibrary.org/"><span style="color:windowtext\; font-family:arial\,sans-serif\; font-size:10.5pt">www.graveslibrary.org</span></a><span style="font-family:arial\,sans-serif\; font-size:10.5pt">.</span></p>\n
LOCATION:18 Maine Street\, Kennebunkport
UID:e.1923.25279
SEQUENCE:3
DTSTAMP:20260421T140103Z
URL:https://chamber.gokennebunks.com/events/details/kindkids-concert-25279
END:VEVENT

END:VCALENDAR
