BEGIN:VCALENDAR
VERSION:2.0
PRODID:-//ChamberMaster//Event Calendar 2.0//EN
METHOD:PUBLISH
X-PUBLISHED-TTL:P3D
REFRESH-INTERVAL:P3D
CALSCALE:GREGORIAN
BEGIN:VEVENT
DTSTART:20191006T151500Z
DTEND:20191006T161500Z
X-MICROSOFT-CDO-ALLDAYEVENT:FALSE
SUMMARY:Kids Yoga
DESCRIPTION:Ages 3-7\, caregivers are included! Join us for a fun yoga class designed to promote mindfulness\, fitness and healthy habits while playing around\, letting loose and meeting your new best friend.
X-ALT-DESC;FMTTYPE=text/html:Ages 3-7\, caregivers are included! Join us for a fun yoga class designed to promote mindfulness\, fitness and healthy habits while playing around\, letting loose and meeting your new best friend. 
LOCATION:The Daily Sweat Yoga + Barre 65 Portland Rd\, Building A\, Unit D
UID:e.1923.13471
SEQUENCE:3
DTSTAMP:20260424T140638Z
URL:https://chamber.gokennebunks.com/events/details/kids-yoga-13471
END:VEVENT

END:VCALENDAR
