BEGIN:VCALENDAR
VERSION:2.0
PRODID:-//ChamberMaster//Event Calendar 2.0//EN
METHOD:PUBLISH
X-PUBLISHED-TTL:P3D
REFRESH-INTERVAL:P3D
CALSCALE:GREGORIAN
BEGIN:VEVENT
DTSTART:20240401T193000Z
DTEND:20240401T201500Z
X-MICROSOFT-CDO-ALLDAYEVENT:FALSE
SUMMARY:Kids Yoga
DESCRIPTION:Let's build strength\, flexibility and confidence! We'll have fun with yoga with themed activities\, stretch it out\, and enjoy mindful moments to end class. We'll also incorporate portions of our bounce class on the trampolines + a healthy snack. Sticky socks will be provided + kept at the studio for the 4 weeks this class will run.
X-ALT-DESC;FMTTYPE=text/html:<span style="color:rgb(0\, 0\, 0)\; font-family:bitter\; font-size:19.5324px">Let&rsquo\;s build strength\, flexibility and confidence! We&rsquo\;ll have fun with yoga with themed activities\, stretch it out\, and enjoy mindful moments to end class. We&rsquo\;ll also incorporate portions of our bounce class on the trampolines + a healthy snack. Sticky socks will be provided + kept at the studio for the 4 weeks this class will run. </span>
LOCATION:The Daily Sweat 65 Portland RD Kennebunk\, ME 04043
UID:e.1923.24403
SEQUENCE:3
DTSTAMP:20260421T164119Z
URL:https://chamber.gokennebunks.com/events/details/kids-yoga-04-01-2024-24403
END:VEVENT

END:VCALENDAR
