BEGIN:VCALENDAR
VERSION:2.0
PRODID:-//ChamberMaster//Event Calendar 2.0//EN
METHOD:PUBLISH
X-PUBLISHED-TTL:P3D
REFRESH-INTERVAL:P3D
CALSCALE:GREGORIAN
BEGIN:VEVENT
DTSTART:20241214T180000Z
DTEND:20241214T200000Z
X-MICROSOFT-CDO-ALLDAYEVENT:FALSE
SUMMARY:Kids' Winter Fun Workshop
DESCRIPTION:Gear up for winter fun with our festive and thoughtful multi-project kids' workshop! Kids will make their very own snow measuring sticks\, snowman kits and pine cone bird feeders\, perfect for snowy days ahead.\n\nWhile the little ones dive into creative crafts\, parents can take some time to explore Prelude festivities. It's the perfect way for kids to get into the winter spirit and for parents to enjoy a festive break!\n\n- Ages 6 - 11\n\n- $35 per person\n\n- Max. # of attendees: 12
X-ALT-DESC;FMTTYPE=text/html:<div>Gear up for winter fun with our festive and thoughtful multi-project kids&rsquo\; workshop! Kids will make their very own snow measuring sticks\, snowman kits and pine cone bird feeders\, perfect for snowy days ahead.</div>\n\n<div>While the little ones dive into creative crafts\, parents can take some time to explore Prelude festivities. It&rsquo\;s the perfect way for kids to get into the winter spirit and for parents to enjoy a festive break!</div>\n\n<div>- Ages 6 - 11<br />\n- $35 per person<br />\n- Max. # of attendees: 12</div>\n
LOCATION:River Tree Arts 35 Western Ave.\, Kennebunk\, ME 04043
UID:e.1923.31153
SEQUENCE:3
DTSTAMP:20260421T032327Z
URL:https://chamber.gokennebunks.com/events/details/kids-winter-fun-workshop-31153
END:VEVENT

END:VCALENDAR
