BEGIN:VCALENDAR
VERSION:2.0
PRODID:-//ChamberMaster//Event Calendar 2.0//EN
METHOD:PUBLISH
X-PUBLISHED-TTL:P3D
REFRESH-INTERVAL:P3D
CALSCALE:GREGORIAN
BEGIN:VEVENT
DTSTART:20241207T163000Z
DTEND:20241207T173000Z
X-MICROSOFT-CDO-ALLDAYEVENT:FALSE
SUMMARY:Kids' "Paint Your Own Pottery" Milk & Cookie Set Workshop
DESCRIPTION:Bring the kiddos to this jolly workshop where they can paint their own pottery. These petite plates and mugs are perfect for holiday cookies\, milk and cocoa! Let them personalize a keepsake that they will have for years to come.\n\nAll items will be fired in our kiln making them food safe.\n\nFinished pieces will be available for pickup/shipping within 7-10 days. Locals can pick up from RTA during office hours. *Shipping of items is available for an added fee ($20.00) for attendees who are traveling.\n\n- Ages 5 - 11\n\n- $45 per person ($20 additional to ship finished sets)\n\n- Max. # of attendees: 10
X-ALT-DESC;FMTTYPE=text/html:<div>Bring the kiddos to this jolly workshop where they can paint their own pottery. These petite plates and mugs are perfect for holiday cookies\, milk and cocoa! Let them personalize a keepsake that they will have for years to come.</div>\n\n<div>All items will be fired in our kiln making them food safe.<br />\nFinished pieces will be available for pickup/shipping within 7-10 days. Locals can pick up from RTA during office hours. *Shipping of items is available for an added fee ($20.00) for attendees who are traveling.</div>\n\n<div>- Ages 5 - 11<br />\n- $45 per person ($20 additional to ship finished sets)<br />\n- Max. # of attendees: 10</div>\n
LOCATION:River Tree Arts 35 Western Ave.\, Kennebunk\, ME 04043
UID:e.1923.31151
SEQUENCE:3
DTSTAMP:20260421T032628Z
URL:https://chamber.gokennebunks.com/events/details/kids-paint-your-own-pottery-milk-cookie-set-workshop-31151
END:VEVENT

END:VCALENDAR
