BEGIN:VCALENDAR
VERSION:2.0
PRODID:-//ChamberMaster//Event Calendar 2.0//EN
METHOD:PUBLISH
X-PUBLISHED-TTL:P3D
REFRESH-INTERVAL:P3D
CALSCALE:GREGORIAN
BEGIN:VEVENT
DTSTART:20180115T210000Z
DTEND:20180116T010000Z
X-MICROSOFT-CDO-ALLDAYEVENT:FALSE
SUMMARY:Kids Craft Night
DESCRIPTION:Join us for a FREE craft night AND KIDS EAT FREE TOO! (With purchase of Adult meal\, From kids menu only please) We supply the craft\, the directions and do all the clean up!!
X-ALT-DESC;FMTTYPE=text/html:Join us for a FREE craft night AND KIDS EAT FREE TOO! (With purchase of Adult meal\, From kids menu only please) We supply the craft\, the directions and do all the clean up!!
LOCATION:Table of Seven 102 York St Kennebunk
UID:e.1923.7002
SEQUENCE:3
DTSTAMP:20260425T210830Z
URL:https://chamber.gokennebunks.com/events/details/kids-craft-night-7002
END:VEVENT

END:VCALENDAR
