BEGIN:VCALENDAR
VERSION:2.0
PRODID:-//ChamberMaster//Event Calendar 2.0//EN
METHOD:PUBLISH
X-PUBLISHED-TTL:P3D
REFRESH-INTERVAL:P3D
CALSCALE:GREGORIAN
BEGIN:VEVENT
DTSTART:20200105T170000Z
DTEND:20200105T170000Z
X-MICROSOFT-CDO-ALLDAYEVENT:FALSE
SUMMARY:Kid's Yoga
DESCRIPTION:Ages 3-7\, caregivers are included! Join us for a fun yoga class designed to promote mindfulness\, fitness and healthy habits while playing around\, letting loose and meeting your new best friend.
X-ALT-DESC;FMTTYPE=text/html:Ages 3-7\, caregivers are included! Join us for a fun yoga class designed to promote mindfulness\, fitness and healthy habits while playing around\, letting loose and meeting your new best friend.
LOCATION:The Daily Sweat 65 Portland RD Building A\, Unit D\, Kennebunk\, ME 04043
UID:e.1923.15577
SEQUENCE:3
DTSTAMP:20260424T082503Z
URL:https://chamber.gokennebunks.com/events/details/kid-s-yoga-15577
END:VEVENT

END:VCALENDAR
