BEGIN:VCALENDAR
VERSION:2.0
PRODID:-//ChamberMaster//Event Calendar 2.0//EN
METHOD:PUBLISH
X-PUBLISHED-TTL:P3D
REFRESH-INTERVAL:P3D
CALSCALE:GREGORIAN
BEGIN:VEVENT
DTSTART:20250503T140000Z
DTEND:20250503T150000Z
X-MICROSOFT-CDO-ALLDAYEVENT:FALSE
SUMMARY:Kid's Mother's Day Workshop
DESCRIPTION:Kids' Mother's Day Workshop\n\nLooking for the perfect gift for Mom? Drop the kiddos off for a fun and creative morning at our Mother's Day Workshop! Kids will paint a beautiful trinket dish of their choice a heartfelt\, handmade gift Mom will treasure forever. Your trinket dishes will be glazed and ready to take home with you. We'll also be making homemade Mother's Day cards to complete the surprise! \n\nTo keep the creativity flowing\, we'll have yummy snacks and hot chocolate on hand. This is a wonderful way for kids to show their love and appreciation while enjoying some artsy fun!\n\nAll ages welcome. Parents are welcome to stay or drop off.\n\nTickets must be purchased in advance.
X-ALT-DESC;FMTTYPE=text/html:<p><strong>Kids&rsquo\; Mother&rsquo\;s Day Workshop</strong><br />\nLooking for the perfect gift for Mom? Drop the kiddos off for a fun and creative morning at our&nbsp\;<strong>Mother&rsquo\;s Day Workshop</strong>! Kids will paint a beautiful&nbsp\;<strong>trinket dish of their choice</strong>&mdash\;a heartfelt\, handmade gift Mom will treasure forever. Your trinket dishes will be glazed and ready to take home with you. We&#39\;ll also be making&nbsp\;<strong>homemade Mother&#39\;s Day cards</strong>&nbsp\;to complete the surprise!&nbsp\;</p>\n\n<p>To keep the creativity flowing\, we&rsquo\;ll have&nbsp\;<strong>yummy snacks and hot chocolate</strong>&nbsp\;on hand. This is a wonderful way for kids to show their love and appreciation while enjoying some artsy fun!</p>\n\n<p><strong>All ages welcome.</strong>&nbsp\;Parents are welcome to stay or drop off.</p>\n\n<p>Tickets must be purchased in advance.</p>\n
LOCATION:The Creative Soul 2 Christensen Ln Kennebunk\, ME
UID:e.1923.34197
SEQUENCE:3
DTSTAMP:20260421T045840Z
URL:https://chamber.gokennebunks.com/events/details/kid-s-mother-s-day-workshop-5-3-25-34197
END:VEVENT

END:VCALENDAR
