BEGIN:VCALENDAR
VERSION:2.0
PRODID:-//ChamberMaster//Event Calendar 2.0//EN
METHOD:PUBLISH
X-PUBLISHED-TTL:P3D
REFRESH-INTERVAL:P3D
CALSCALE:GREGORIAN
BEGIN:VEVENT
DTSTART:20180729T000000Z
DTEND:20180729T023000Z
X-MICROSOFT-CDO-ALLDAYEVENT:FALSE
SUMMARY:Keys to the City: Dueling Pianos
DESCRIPTION:KEYS TO THE CITY is a fantastic dueling piano show like no other. Seth Holbrook and Jim Ciampi have created a sensational offering that will have you singing\, laughing and dancing in the aisles. Unless you've been to Vegas or perhaps enjoyed the nightlife of a large metropolitan city\, there's a good chance you've never had a dueling experience. Well\, we are bringing it to you with big city flavor only\, on a whole new level! We deliver a theatrical comedic performance with an interactive element that involves everyone and some more than others! We'll be playing for and with everyone all night enticing them to let their hair down and throw their inhibitions out the window. From Sinatra to Bruno and Billy Joel to Elton you'll hear all your favorites as we journey through the great hits of the last 8 decades.
X-ALT-DESC;FMTTYPE=text/html:KEYS TO THE CITY is a fantastic dueling piano show like no other. Seth Holbrook and Jim Ciampi have created a sensational offering that will have you singing\, laughing and dancing in the aisles. Unless you&rsquo\;ve been to Vegas or perhaps enjoyed the nightlife of a large metropolitan city\, there&rsquo\;s a good chance you&rsquo\;ve never had a dueling experience. Well\, we are bringing it to you with big city flavor only\, on a whole new level! We deliver a theatrical comedic performance with an interactive element that involves everyone&hellip\;and some more than others! We&rsquo\;ll be playing for and with everyone all night enticing them to let their hair down and throw their inhibitions out the window. From Sinatra to Bruno and Billy Joel to Elton you&rsquo\;ll hear all your favorites as we journey through the great hits of the last 8 decades.
LOCATION:Vinegar Hill Music Theatre 53 Old Post Rd. Arundel\, ME 04046
UID:e.1923.9898
SEQUENCE:3
DTSTAMP:20260425T132957Z
URL:https://chamber.gokennebunks.com/events/details/keys-to-the-city-dueling-pianos-9898
END:VEVENT

END:VCALENDAR
