BEGIN:VCALENDAR
VERSION:2.0
PRODID:-//ChamberMaster//Event Calendar 2.0//EN
METHOD:PUBLISH
X-PUBLISHED-TTL:P3D
REFRESH-INTERVAL:P3D
CALSCALE:GREGORIAN
BEGIN:VEVENT
DTSTART:20180601T000000Z
DTEND:20180601T020000Z
X-MICROSOFT-CDO-ALLDAYEVENT:FALSE
SUMMARY:Kevin Nealon
DESCRIPTION:Kevin Nealon sets himself apart from other comedic performers with his unique sense of humor\, dry wit and likeable demeanor. Nealon is best known for his nine-year stint as a cast member of NBC's Saturday Night Live\, and has received critical acclaim for his role in the Showtime series\, Weeds.
X-ALT-DESC;FMTTYPE=text/html:Kevin Nealon sets himself apart from other comedic performers with his unique sense of humor\, dry wit and likeable demeanor. Nealon is best known for his nine-year stint as a cast member of NBC&rsquo\;s Saturday Night Live\, and has received critical acclaim for his role in the Showtime series\, Weeds.
LOCATION:Vinegar Hill Music Theatre 53 Old Post Rd. Arundel\, ME 04046
UID:e.1923.7557
SEQUENCE:3
DTSTAMP:20260425T154911Z
URL:https://chamber.gokennebunks.com/events/details/kevin-nealon-7557
END:VEVENT

END:VCALENDAR
