BEGIN:VCALENDAR
VERSION:2.0
PRODID:-//ChamberMaster//Event Calendar 2.0//EN
METHOD:PUBLISH
X-PUBLISHED-TTL:P3D
REFRESH-INTERVAL:P3D
CALSCALE:GREGORIAN
BEGIN:VEVENT
DTSTART:20180819T180000Z
DTEND:20180819T193000Z
X-MICROSOFT-CDO-ALLDAYEVENT:FALSE
SUMMARY:Kennebunkport Launch of Bound for Gold
DESCRIPTION:KENNEBUNKPORT LAUNCH OF "BOUND FOR GOLD" by WILLIAM MARTIN @ Louis T. Graves Memorial Public Library Aug 19 at 2   3:30 pm A Fundraiser for Graves Memorial Library - Mothers Wing New York Times best-selling author\, William Martin will join us on Sunday\, August 19th at 2:00 to launch his new book\, Bound for Gold published by Forge Books\, July 3\, 2018. Bound for Gold continues New York Times bestselling author William Martin's epic of American history with the further adventures of Boston rare-book dealer Peter Fallon and his girlfriend\, Evangeline Carrington. They are headed to California\, where their search for a lost journal takes them into the history of Gold Rush. The journal follows young James Spencer\, of the Sagamore Mining Company\, on a spectacular journey from staid Boston\, up the Sacramento River to the Mother Lode. During his search for a "lost river of gold\," Spencer confronts vengeance\, greed\, and racism in himself and others\, and builds one of California's first mercantile empires. In the present\, Peter Fallon's son asks his father for help appraising the rare books in the Spencer estate and reconstructing Spencer's seven-part journal\, which has been stolen from the California Historical Society. Peter and Evangeline head for modern San Francisco and quickly discover that there's something much bigger and more dangerous going on\, and Peter's son is in the middle of it. Turns out\, that lost river of gold may be more than a myth (Amazon.com). Mr. Martin has numerous literary accomplishments in the realm of historical novels including\, The Lost Constitution\, Citizen Washington\, Back Bay\, and The Lincoln Letter. In 2015\, the USS CONSTITUTION Museum gave him the Samuel Eliot Morison Award for "patriotic pride\, artful scholarship\, and an eclectic interest in the sea and things maritime." Mr. Martin will present his research and writing of the "lost river of gold." Tickets ($20.00) will be sold at the Library starting August 1st. Price includes the talk\, a wine and cheese reception\, and intimate discussion with the author. All proceeds benefit the Capital Campaign for the new Mothers Wing. Limited seating available. Please call for further information (967-2778).
X-ALT-DESC;FMTTYPE=text/html:KENNEBUNKPORT LAUNCH OF &ldquo\;BOUND FOR GOLD&rdquo\; by WILLIAM MARTIN @ Louis T. Graves Memorial Public Library Aug 19 at 2 &ndash\; 3:30 pm A Fundraiser for Graves Memorial Library - Mothers Wing New York Times best-selling author\, William Martin will join us on Sunday\, August 19th at 2:00 to launch his new book\, Bound for Gold published by Forge Books\, July 3\, 2018. Bound for Gold continues New York Times bestselling author William Martin&rsquo\;s epic of American history with the further adventures of Boston rare-book dealer Peter Fallon and his girlfriend\, Evangeline Carrington. They are headed to California\, where their search for a lost journal takes them into the history of Gold Rush. The journal follows young James Spencer\, of the Sagamore Mining Company\, on a spectacular journey from staid Boston\, up the Sacramento River to the Mother Lode. During his search for a &ldquo\;lost river of gold\,&rdquo\; Spencer confronts vengeance\, greed\, and racism in himself and others\, and builds one of California&rsquo\;s first mercantile empires. In the present\, Peter Fallon&rsquo\;s son asks his father for help appraising the rare books in the Spencer estate and reconstructing Spencer&rsquo\;s seven-part journal\, which has been stolen from the California Historical Society. Peter and Evangeline head for modern San Francisco and quickly discover that there&rsquo\;s something much bigger and more dangerous going on\, and Peter&rsquo\;s son is in the middle of it. Turns out\, that lost river of gold may be more than a myth (Amazon.com). Mr. Martin has numerous literary accomplishments in the realm of historical novels including\, The Lost Constitution\, Citizen Washington\, Back Bay\, and The Lincoln Letter. In 2015\, the USS CONSTITUTION Museum gave him the Samuel Eliot Morison Award for &ldquo\;patriotic pride\, artful scholarship\, and an eclectic interest in the sea and things maritime.&rdquo\; Mr. Martin will present his research and writing of the &ldquo\;lost river of gold.&rdquo\; Tickets ($20.00) will be sold at the Library starting August 1st. Price includes the talk\, a wine and cheese reception\, and intimate discussion with the author. All proceeds benefit the Capital Campaign for the new Mothers Wing. Limited seating available. Please call for further information (967-2778).
LOCATION:Louis T. Graves Memorial Public Library\, 18 Maine Street\, Kennebunkport\, Maine 04046
UID:e.1923.9959
SEQUENCE:3
DTSTAMP:20260425T115920Z
URL:https://chamber.gokennebunks.com/events/details/kennebunkport-launch-of-bound-for-gold-9959
END:VEVENT

END:VCALENDAR
