BEGIN:VCALENDAR
VERSION:2.0
PRODID:-//ChamberMaster//Event Calendar 2.0//EN
METHOD:PUBLISH
X-PUBLISHED-TTL:P3D
REFRESH-INTERVAL:P3D
CALSCALE:GREGORIAN
BEGIN:VEVENT
DTSTART:20170903T150000Z
DTEND:20170903T210000Z
X-MICROSOFT-CDO-ALLDAYEVENT:FALSE
SUMMARY:Kennebunkport Brewing Company (Birthplace Of Shipyard Ale) Brew Tour and Tasting @KBC Shipyard Store
DESCRIPTION:Brewery tours and tastings every hour between 11-5 pm Memorial Day - Labor Day
X-ALT-DESC;FMTTYPE=text/html:Brewery tours and tastings every hour&nbsp\;between 11-5 pm Memorial Day - Labor Day
LOCATION:KBC Shipyard Store\, 8 Western Ave.\, Kennebunk\, ME 04043
UID:e.1923.5846
SEQUENCE:3
DTSTAMP:20260426T024658Z
URL:https://chamber.gokennebunks.com/events/details/kennebunkport-brewing-company-birthplace-of-shipyard-ale-brew-tour-and-tasting-kbc-shipyard-store-09-03-2017-5846
END:VEVENT

END:VCALENDAR
