BEGIN:VCALENDAR
VERSION:2.0
PRODID:-//ChamberMaster//Event Calendar 2.0//EN
METHOD:PUBLISH
X-PUBLISHED-TTL:P3D
REFRESH-INTERVAL:P3D
CALSCALE:GREGORIAN
BEGIN:VEVENT
DTSTART:20190811T140000Z
DTEND:20190811T210000Z
X-MICROSOFT-CDO-ALLDAYEVENT:FALSE
SUMMARY:Kennebunk River Club Art Show and Sale
DESCRIPTION:The Kennebunk River Club's 64th Annual Art Show and Sale features works of art from over 140 local artists in a variety of mediums\, including oil\, pastel\, watercolor\, photography\, and sculpture. It is held in the Club's Boathouse and Casino\, both of which are listed in the National Register of Historic Places. Ample free parking.
X-ALT-DESC;FMTTYPE=text/html:The Kennebunk River Club&#39\;s 64th Annual Art Show and Sale features works of art from over 140 local artists in a variety of mediums\, including oil\, pastel\, watercolor\, photography\, and sculpture. It is held in the Club&#39\;s Boathouse and Casino\, both of which are listed in the National Register of Historic Places. Ample free parking.
LOCATION:Kennebunk River Club 115 and 116 Ocean Avenue Kennebunkport\, ME
UID:e.1923.13389
SEQUENCE:3
DTSTAMP:20260424T170018Z
URL:https://chamber.gokennebunks.com/events/details/kennebunk-river-club-art-show-and-sale-13389
END:VEVENT

END:VCALENDAR
