BEGIN:VCALENDAR
VERSION:2.0
PRODID:-//ChamberMaster//Event Calendar 2.0//EN
METHOD:PUBLISH
X-PUBLISHED-TTL:P3D
REFRESH-INTERVAL:P3D
CALSCALE:GREGORIAN
BEGIN:VEVENT
DTSTART:20170819T140000Z
DTEND:20170819T160000Z
X-MICROSOFT-CDO-ALLDAYEVENT:FALSE
SUMMARY:Kennebunk Land Trust: Walk With A Naturalist
DESCRIPTION:The Kennebunk Land Trust will host a naturalist walk for the public on Saturday\, August 19 from 10 am to noon at the Secret Garden. The 1.5 mile easy/moderate trail loop meanders through forest\, fern beds\, and bog areas. The walk is a rain or shine event\; please wear appropriate clothing and footwear. This walk is free to the public.
X-ALT-DESC;FMTTYPE=text/html:The Kennebunk Land Trust will host a naturalist walk for the public on Saturday\, August 19&nbsp\;from 10 am to noon at the Secret Garden. The 1.5 mile easy/moderate trail loop meanders through forest\, fern beds\, and bog areas. The walk is a rain or shine event\; please wear appropriate clothing and footwear. This walk is free to the public.
LOCATION:Access to the property is from Evergreen Cemetery in Kennebunk. Directions: From the intersection of Route 1 (Main Street) and Summer Street (Route 35) in Kennebunk\, drive east on Summer Street for 2.0 miles. Evergreen Cemetery is on the right. Enter the cemetery via the central main gate\, drive to the rear of the cemetery and park on the grass near an old woods road. The Secret Garden trail begins about 100 yards from the back edge of the center of the cemetery. From Kennebunkport\, follow ME Routes 35/9A north 1.5 miles to Evergreen Cemetery on the left. Enter the cemetery via the central main gate\, drive to the rear of the cemetery and park on the grass. Call 207-985-8734 for more details.
UID:e.1923.5922
SEQUENCE:3
DTSTAMP:20260426T035729Z
URL:https://chamber.gokennebunks.com/events/details/kennebunk-land-trust-walk-with-a-naturalist-5922
END:VEVENT

END:VCALENDAR
