BEGIN:VCALENDAR
VERSION:2.0
PRODID:-//ChamberMaster//Event Calendar 2.0//EN
METHOD:PUBLISH
X-PUBLISHED-TTL:P3D
REFRESH-INTERVAL:P3D
CALSCALE:GREGORIAN
BEGIN:VEVENT
DTSTART:20170915T190000Z
DTEND:20170915T213000Z
X-MICROSOFT-CDO-ALLDAYEVENT:FALSE
SUMMARY:Kennebunk Land Trust Par 3 Golf Tournament
DESCRIPTION:KLT is hosting a Par 3 Golf Tournament on Friday\, September 15th. 3pm tee off followed by wine/beer & cheese social at 4:30pm.
X-ALT-DESC;FMTTYPE=text/html:KLT is hosting a Par 3 Golf Tournament on Friday\, September 15th. 3pm tee off followed by wine/beer &amp\; cheese social at 4:30pm.
LOCATION:Tournament location is Hillcrest Golf\, 77 Western Avenue (Route 9) Kennebunk
UID:e.1923.5927
SEQUENCE:3
DTSTAMP:20260426T023042Z
URL:https://chamber.gokennebunks.com/events/details/kennebunk-land-trust-par-3-golf-tournament-5927
END:VEVENT

END:VCALENDAR
