BEGIN:VCALENDAR
VERSION:2.0
PRODID:-//ChamberMaster//Event Calendar 2.0//EN
METHOD:PUBLISH
X-PUBLISHED-TTL:P3D
REFRESH-INTERVAL:P3D
CALSCALE:GREGORIAN
BEGIN:VEVENT
DTSTART:20180824T190000Z
DTEND:20180824T210000Z
X-MICROSOFT-CDO-ALLDAYEVENT:FALSE
SUMMARY:Kennebunk Land Trust Par 3 Golf Tournament
DESCRIPTION:Friday\, August 24. 3 pm tee off followed by wine/beer & cheese social at 4:30pm. \n\n  Teams of 4 players. $20 per player ($80 per team). \n\n  Hole Sponsorships: $100 includes sign at hole\, 2 players\, & recognition at reception.\n\n   Eagle Sponsor: Only two sponsorships available. $300 includes larger sign at first hole or putting green\, 4 players\,  1 free chance at putting contest\, & recognition at reception\n\n	Tournament location is Hillcrest Golf\, 77 Western Avenue (Route 9) Kennebunk \n	 Contact Sarah Stanley at sstanley@kennebunklandtrust.org or call 207-985-8734 for more information/if you are interested in entering a team or sponsoring. \n	   Registration and sponsorships are open until August 17th\, Friday\, at noon.
X-ALT-DESC;FMTTYPE=text/html:<span style="font-family:georgia\,serif">&bull\; <strong>Friday\,&nbsp\;August 24</strong>. 3 pm tee off followed by wine/beer &amp\; cheese social at 4:30pm. </span><br />\n<span style="font-family:georgia\,serif">&bull\; Teams of 4 players. $20 per player ($80 per team). </span><br />\n<span style="font-family:georgia\,serif">&bull\; Hole Sponsorships: $100 includes sign at hole\, 2 players\, &amp\; recognition at reception.</span><br />\n<span style="font-family:georgia\,serif">&bull\;&nbsp\; Eagle Sponsor: Only two sponsorships available. $300 includes larger sign at first hole or putting green\, 4 players\, &nbsp\;1 free chance at putting contest\, &amp\; recognition at reception</span>\n<ul>\n	<li><span style="font-family:georgia\,serif">Tournament location is Hillcrest Golf\, 77 Western Avenue (Route 9) Kennebunk </span></li>\n	<li><span style="font-family:georgia\,serif">&nbsp\;Contact Sarah Stanley at sstanley@kennebunklandtrust.org or call 207-985-8734 for more information/if you are interested in entering a team or sponsoring. </span></li>\n	<li><span style="font-family:georgia\,serif">&nbsp\;&nbsp\;&nbsp\;Registration and sponsorships are open until <strong>August 17th\, Friday\, at noon</strong>. </span></li>\n</ul>\n
LOCATION:Tournament location is Hillcrest Golf\, 77 Western Avenue (Route 9) Kennebunk
UID:e.1923.9960
SEQUENCE:3
DTSTAMP:20260425T120459Z
URL:https://chamber.gokennebunks.com/events/details/kennebunk-land-trust-par-3-golf-tournament-08-24-2018-9960
END:VEVENT

END:VCALENDAR
